BEGIN:VCALENDAR
VERSION:2.0
PRODID:-//Ignite Peace - ECPv6.15.20//NONSGML v1.0//EN
CALSCALE:GREGORIAN
METHOD:PUBLISH
X-ORIGINAL-URL:https://ignitepeace.org
X-WR-CALDESC:Events for Ignite Peace
REFRESH-INTERVAL;VALUE=DURATION:PT1H
X-Robots-Tag:noindex
X-PUBLISHED-TTL:PT1H
BEGIN:VTIMEZONE
TZID:America/New_York
BEGIN:DAYLIGHT
TZOFFSETFROM:-0500
TZOFFSETTO:-0400
TZNAME:EDT
DTSTART:20150308T070000
END:DAYLIGHT
BEGIN:STANDARD
TZOFFSETFROM:-0400
TZOFFSETTO:-0500
TZNAME:EST
DTSTART:20151101T060000
END:STANDARD
BEGIN:DAYLIGHT
TZOFFSETFROM:-0500
TZOFFSETTO:-0400
TZNAME:EDT
DTSTART:20160313T070000
END:DAYLIGHT
BEGIN:STANDARD
TZOFFSETFROM:-0400
TZOFFSETTO:-0500
TZNAME:EST
DTSTART:20161106T060000
END:STANDARD
BEGIN:DAYLIGHT
TZOFFSETFROM:-0500
TZOFFSETTO:-0400
TZNAME:EDT
DTSTART:20170312T070000
END:DAYLIGHT
BEGIN:STANDARD
TZOFFSETFROM:-0400
TZOFFSETTO:-0500
TZNAME:EST
DTSTART:20171105T060000
END:STANDARD
END:VTIMEZONE
BEGIN:VEVENT
DTSTART;TZID=America/New_York:20160518T133000
DTEND;TZID=America/New_York:20160518T150000
DTSTAMP:20260418T123223
CREATED:20160318T171213Z
LAST-MODIFIED:20160421T145652Z
UID:10000642-1463578200-1463583600@ignitepeace.org
SUMMARY:Human Trafficking Committee Meeting
DESCRIPTION:Join the Human Trafficking Committee Meeting to learn more about upcoming events and education planned regarding Human Trafficking.  This meeting is typically held the third Tuesday of each month.
URL:https://ignitepeace.org/event/human-trafficking-committee-meeting/
LOCATION:Unnamed Venue\, 701 E Columbia Ave\, Cincinnati\, 45215\, United States
ATTACH;FMTTYPE=image/png:https://ignitepeace.org/wp-content/uploads/2015/09/fav.png
END:VEVENT
END:VCALENDAR