BEGIN:VCALENDAR
VERSION:2.0
PRODID:-//Ignite Peace - ECPv6.15.20//NONSGML v1.0//EN
CALSCALE:GREGORIAN
METHOD:PUBLISH
X-ORIGINAL-URL:https://ignitepeace.org
X-WR-CALDESC:Events for Ignite Peace
REFRESH-INTERVAL;VALUE=DURATION:PT1H
X-Robots-Tag:noindex
X-PUBLISHED-TTL:PT1H
BEGIN:VTIMEZONE
TZID:America/New_York
BEGIN:DAYLIGHT
TZOFFSETFROM:-0500
TZOFFSETTO:-0400
TZNAME:EDT
DTSTART:20160313T070000
END:DAYLIGHT
BEGIN:STANDARD
TZOFFSETFROM:-0400
TZOFFSETTO:-0500
TZNAME:EST
DTSTART:20161106T060000
END:STANDARD
BEGIN:DAYLIGHT
TZOFFSETFROM:-0500
TZOFFSETTO:-0400
TZNAME:EDT
DTSTART:20170312T070000
END:DAYLIGHT
BEGIN:STANDARD
TZOFFSETFROM:-0400
TZOFFSETTO:-0500
TZNAME:EST
DTSTART:20171105T060000
END:STANDARD
BEGIN:DAYLIGHT
TZOFFSETFROM:-0500
TZOFFSETTO:-0400
TZNAME:EDT
DTSTART:20180311T070000
END:DAYLIGHT
BEGIN:STANDARD
TZOFFSETFROM:-0400
TZOFFSETTO:-0500
TZNAME:EST
DTSTART:20181104T060000
END:STANDARD
END:VTIMEZONE
BEGIN:VEVENT
DTSTART;TZID=America/New_York:20171130T190000
DTEND;TZID=America/New_York:20171130T200000
DTSTAMP:20260418T123301
CREATED:20171121T195558Z
LAST-MODIFIED:20171121T195558Z
UID:10000786-1512068400-1512072000@ignitepeace.org
SUMMARY:Cities for Life
DESCRIPTION:IJPC is partnering with the Social Action Office of the Archdiocese of Cincinnati to light up the cathedral downtown in conjunction with Cities for Life. There will be an ecumenical service that night as we come together across faith traditions to raise our voices against the death penalty. \nPlease RSVP here if you plan to attend.
URL:https://ignitepeace.org/event/cities-for-life/
LOCATION:St. Peter in Chains Cathedral\, 325 W 8th St\, Cincinnati\, OH\, 45202\, United States
CATEGORIES:death penalty
ATTACH;FMTTYPE=image/jpeg:https://ignitepeace.org/wp-content/uploads/2017/11/cities-for-life-small.jpg
END:VEVENT
END:VCALENDAR