BEGIN:VCALENDAR
VERSION:2.0
PRODID:-//Ignite Peace - ECPv6.15.20//NONSGML v1.0//EN
CALSCALE:GREGORIAN
METHOD:PUBLISH
X-WR-CALNAME:Ignite Peace
X-ORIGINAL-URL:https://ignitepeace.org
X-WR-CALDESC:Events for Ignite Peace
REFRESH-INTERVAL;VALUE=DURATION:PT1H
X-Robots-Tag:noindex
X-PUBLISHED-TTL:PT1H
BEGIN:VTIMEZONE
TZID:America/New_York
BEGIN:DAYLIGHT
TZOFFSETFROM:-0500
TZOFFSETTO:-0400
TZNAME:EDT
DTSTART:20160313T070000
END:DAYLIGHT
BEGIN:STANDARD
TZOFFSETFROM:-0400
TZOFFSETTO:-0500
TZNAME:EST
DTSTART:20161106T060000
END:STANDARD
BEGIN:DAYLIGHT
TZOFFSETFROM:-0500
TZOFFSETTO:-0400
TZNAME:EDT
DTSTART:20170312T070000
END:DAYLIGHT
BEGIN:STANDARD
TZOFFSETFROM:-0400
TZOFFSETTO:-0500
TZNAME:EST
DTSTART:20171105T060000
END:STANDARD
BEGIN:DAYLIGHT
TZOFFSETFROM:-0500
TZOFFSETTO:-0400
TZNAME:EDT
DTSTART:20180311T070000
END:DAYLIGHT
BEGIN:STANDARD
TZOFFSETFROM:-0400
TZOFFSETTO:-0500
TZNAME:EST
DTSTART:20181104T060000
END:STANDARD
END:VTIMEZONE
BEGIN:VEVENT
DTSTART;TZID=America/New_York:20170108T150000
DTEND;TZID=America/New_York:20170108T163000
DTSTAMP:20260418T123239
CREATED:20161222T162457Z
LAST-MODIFIED:20180402T195855Z
UID:10000601-1483887600-1483893000@ignitepeace.org
SUMMARY:Coalition for Immigrant Dignity / Coalición Local Para la Dignidad de los Inmigrantes
DESCRIPTION:(abajo en español ) \n(prospectus en Français au dessous de) \nWHO: Individuals – Immigrants and Allies\, Immigrant Serving and Immigrant Advocacy Organizations. More than 30 organizations were represented at the last meeting. Your confirmation is requested. Confirm via Google Form. \nWHAT: Broad gathering of immigrants and allies to determine the direction of a Coalition for Immigrant Dignity in Cincinnati. \nWHERE: Peoples Church: 220 William Howard Taft Rd\, Cincinnati\, OH 45219. \nWHEN: Sunday 1/8/17\, 3:00-4:30pm. \nWHY: Building on local accomplishments in advancing dignity and respect for immigrant families and preparing for coming challenges. Identify community members ready to lead the coalition. Specific topics to review may include: Community responses to unjust deportation; Education – ie: Know Your Rights Trainings; Policy Advocacy and Civic Engagement. To participate in shaping the program contact: allison@ijpccincinnati.org. \n— \nQUIENES: Individuos – Inmigrantes y Aliados\, Organizaciones que Sirven y Defenden al Inmigrante.  Mas de 30 organizaciones estuvieron representadas en la ultima reunion. Requerimos su confirmación. Confirme por esta forma. \nQUE: Amplia coalición de inmigrantes y aliados para determinar la dirección de una Coalición para la Dignidad del Inmigrante en Cincinnati. \nDONDE: Peoples Church: 220 William Howard Taft Rd\, Cincinnati\, OH 45219. \nCUANDO: Domingo 8 de enero de 2017\, 3:00-4:30 PM. \nPOR QUE: Construir sobre los logros locales en el avance de la dignidad y el respeto para las familias de inmigrantes\, y prepararnos para los retos futuros.  Identificar miembros de la comunidad preparados para liderar la coalición. Temas específicos para conversar incluyen: Respuestas de la comunidad a las deportaciones injustas; Educación – es decir: Entrenamiento de Conozca sus Derechos; Defensa publica y Compromiso Cívico. Para participar en el contenido del programa contacte a: allison@ijpccincinnati.org \n  \n 
URL:https://ignitepeace.org/event/greater-cincinnati-immigration-coalition-meeting/
LOCATION:People’s Church\, 220 William Howard Taft Road\, Cincinnati\, OH\, 45219\, United States
CATEGORIES:Immigration
END:VEVENT
END:VCALENDAR