BEGIN:VCALENDAR
VERSION:2.0
PRODID:-//Ignite Peace - ECPv6.15.20//NONSGML v1.0//EN
CALSCALE:GREGORIAN
METHOD:PUBLISH
X-ORIGINAL-URL:https://ignitepeace.org
X-WR-CALDESC:Events for Ignite Peace
REFRESH-INTERVAL;VALUE=DURATION:PT1H
X-Robots-Tag:noindex
X-PUBLISHED-TTL:PT1H
BEGIN:VTIMEZONE
TZID:America/New_York
BEGIN:DAYLIGHT
TZOFFSETFROM:-0500
TZOFFSETTO:-0400
TZNAME:EDT
DTSTART:20150308T070000
END:DAYLIGHT
BEGIN:STANDARD
TZOFFSETFROM:-0400
TZOFFSETTO:-0500
TZNAME:EST
DTSTART:20151101T060000
END:STANDARD
BEGIN:DAYLIGHT
TZOFFSETFROM:-0500
TZOFFSETTO:-0400
TZNAME:EDT
DTSTART:20160313T070000
END:DAYLIGHT
BEGIN:STANDARD
TZOFFSETFROM:-0400
TZOFFSETTO:-0500
TZNAME:EST
DTSTART:20161106T060000
END:STANDARD
BEGIN:DAYLIGHT
TZOFFSETFROM:-0500
TZOFFSETTO:-0400
TZNAME:EDT
DTSTART:20170312T070000
END:DAYLIGHT
BEGIN:STANDARD
TZOFFSETFROM:-0400
TZOFFSETTO:-0500
TZNAME:EST
DTSTART:20171105T060000
END:STANDARD
END:VTIMEZONE
BEGIN:VEVENT
DTSTART;TZID=America/New_York:20161117T180000
DTEND;TZID=America/New_York:20161117T210000
DTSTAMP:20260418T123239
CREATED:20161021T153527Z
LAST-MODIFIED:20180402T195451Z
UID:10000687-1479405600-1479416400@ignitepeace.org
SUMMARY:Rethinking Racism
DESCRIPTION:Join us for the 8th Rethinking Racism on November 17th 2016. \nRethinking Racism is a multiracial alliance challenging white individuals and organizations to acknowledge and end racism.  Our movement’s initial effort is bringing large groups of people together for open exchanges that will encourage authentic unity\, address denial and provide further pathways to justice. We believe the relationships created will lead us from conversation to actions that will begin to transform racist structures. \nPlease come and bring a friend! The event is free.  RSVP: https://www.eventbrite.com/e/rethinking-racism-tickets-28655551526 \nShare on Facebook: https://www.facebook.com/events/332662850419133/
URL:https://ignitepeace.org/event/rethinking-racism-8/
LOCATION:Northern Hills\, 460 Fleming Road\, Wyoming\, OH\, 45231\, United States
END:VEVENT
END:VCALENDAR