BEGIN:VCALENDAR
VERSION:2.0
PRODID:-//Ignite Peace - ECPv6.15.20//NONSGML v1.0//EN
CALSCALE:GREGORIAN
METHOD:PUBLISH
X-ORIGINAL-URL:https://ignitepeace.org
X-WR-CALDESC:Events for Ignite Peace
REFRESH-INTERVAL;VALUE=DURATION:PT1H
X-Robots-Tag:noindex
X-PUBLISHED-TTL:PT1H
BEGIN:VTIMEZONE
TZID:America/New_York
BEGIN:DAYLIGHT
TZOFFSETFROM:-0500
TZOFFSETTO:-0400
TZNAME:EDT
DTSTART:20140309T070000
END:DAYLIGHT
BEGIN:STANDARD
TZOFFSETFROM:-0400
TZOFFSETTO:-0500
TZNAME:EST
DTSTART:20141102T060000
END:STANDARD
BEGIN:DAYLIGHT
TZOFFSETFROM:-0500
TZOFFSETTO:-0400
TZNAME:EDT
DTSTART:20150308T070000
END:DAYLIGHT
BEGIN:STANDARD
TZOFFSETFROM:-0400
TZOFFSETTO:-0500
TZNAME:EST
DTSTART:20151101T060000
END:STANDARD
BEGIN:DAYLIGHT
TZOFFSETFROM:-0500
TZOFFSETTO:-0400
TZNAME:EDT
DTSTART:20160313T070000
END:DAYLIGHT
BEGIN:STANDARD
TZOFFSETFROM:-0400
TZOFFSETTO:-0500
TZNAME:EST
DTSTART:20161106T060000
END:STANDARD
END:VTIMEZONE
BEGIN:VEVENT
DTSTART;TZID=America/New_York:20151109T190000
DTEND;TZID=America/New_York:20151109T203000
DTSTAMP:20260418T123214
CREATED:20151109T173943Z
LAST-MODIFIED:20230120T160544Z
UID:10000612-1447095600-1447101000@ignitepeace.org
SUMMARY:Voices of Experience: The Death Penalty
DESCRIPTION:Terry Collins oversaw 33 executions from 2001 to 2011. Now\, he is a strong advocate for repeal of the death penalty. Derrick Jamison sat on Death Row for over 20 years before he was finally freed …because he was innocent. The death penalty is at the forefront of national politics\, especially in Ohio. Pope Francis recently called us to “advocate at different levels for the global abolition of the death penalty.” What does this mean for us as people of faith? Bring your questions to this unique panel discussion: \nMonday\, November 9th\n 7:00-8:30pm\n Nativity of Our Lord Parish\n 5935 Pandora Ave.\n Cincinnati\, OH 45213\n Panel to be held in the cafeteria
URL:https://ignitepeace.org/event/voices-of-experience-the-death-penalty/
LOCATION:Nativity of Our Lord Parish\, 5935 Pandora Ave\, Cincinnati\, OH\, 45213\, United States
END:VEVENT
END:VCALENDAR