BEGIN:VCALENDAR
VERSION:2.0
PRODID:-//Ignite Peace - ECPv6.15.20//NONSGML v1.0//EN
CALSCALE:GREGORIAN
METHOD:PUBLISH
X-WR-CALNAME:Ignite Peace
X-ORIGINAL-URL:https://ignitepeace.org
X-WR-CALDESC:Events for Ignite Peace
REFRESH-INTERVAL;VALUE=DURATION:PT1H
X-Robots-Tag:noindex
X-PUBLISHED-TTL:PT1H
BEGIN:VTIMEZONE
TZID:America/New_York
BEGIN:DAYLIGHT
TZOFFSETFROM:-0500
TZOFFSETTO:-0400
TZNAME:EDT
DTSTART:20160313T070000
END:DAYLIGHT
BEGIN:STANDARD
TZOFFSETFROM:-0400
TZOFFSETTO:-0500
TZNAME:EST
DTSTART:20161106T060000
END:STANDARD
BEGIN:DAYLIGHT
TZOFFSETFROM:-0500
TZOFFSETTO:-0400
TZNAME:EDT
DTSTART:20170312T070000
END:DAYLIGHT
BEGIN:STANDARD
TZOFFSETFROM:-0400
TZOFFSETTO:-0500
TZNAME:EST
DTSTART:20171105T060000
END:STANDARD
BEGIN:DAYLIGHT
TZOFFSETFROM:-0500
TZOFFSETTO:-0400
TZNAME:EDT
DTSTART:20180311T070000
END:DAYLIGHT
BEGIN:STANDARD
TZOFFSETFROM:-0400
TZOFFSETTO:-0500
TZNAME:EST
DTSTART:20181104T060000
END:STANDARD
END:VTIMEZONE
BEGIN:VEVENT
DTSTART;TZID=America/New_York:20170930T100000
DTEND;TZID=America/New_York:20170930T120000
DTSTAMP:20260418T123259
CREATED:20170918T144218Z
LAST-MODIFIED:20180404T150644Z
UID:10000773-1506765600-1506772800@ignitepeace.org
SUMMARY:Mason Walk for Peace
DESCRIPTION:Walk for Peace is part of the 141 official United Nations recognized World Peace Day celebrations around the globe. \nWalk for Peace is an event that highlights our individual and collective responsibility for the progress of humanity. It strives to bring peace into our day to day lives\, and the lives of others in our local-global communities by recognizing that we are united by something that we all believe in: values. These include: love\, truth\, righteousness\, nonviolence\, and peace. \n\nThe 5K walk will conclude with an intercultural fair\, where community members can get engaged in meaningful volunteerism\, and enjoy singing\, dance\, and art activities. \nOn September 30\, we stand united in celebration of World Peace Day – a day which provides a globally shared date for all humanity to commit to Peace above all differences and to contribute to building a #CultureofPeace. \nNo Labels. No Afflilations. Just Values. Just Oneness.\nFor more information and to Pre-register today\, visit: https://goo.gl/forms/bXyvlkXzzN5Tegdq2
URL:https://ignitepeace.org/event/mason-walk-peace/
LOCATION:Mason Pine Hill Park\, 211 Kings Mills Rd\, Mason\, OH\, 45040\, United States
CATEGORIES:Peace
END:VEVENT
END:VCALENDAR