BEGIN:VCALENDAR
VERSION:2.0
PRODID:-//Ignite Peace - ECPv6.15.20//NONSGML v1.0//EN
CALSCALE:GREGORIAN
METHOD:PUBLISH
X-ORIGINAL-URL:https://ignitepeace.org
X-WR-CALDESC:Events for Ignite Peace
REFRESH-INTERVAL;VALUE=DURATION:PT1H
X-Robots-Tag:noindex
X-PUBLISHED-TTL:PT1H
BEGIN:VTIMEZONE
TZID:America/New_York
BEGIN:DAYLIGHT
TZOFFSETFROM:-0500
TZOFFSETTO:-0400
TZNAME:EDT
DTSTART:20170312T070000
END:DAYLIGHT
BEGIN:STANDARD
TZOFFSETFROM:-0400
TZOFFSETTO:-0500
TZNAME:EST
DTSTART:20171105T060000
END:STANDARD
BEGIN:DAYLIGHT
TZOFFSETFROM:-0500
TZOFFSETTO:-0400
TZNAME:EDT
DTSTART:20180311T070000
END:DAYLIGHT
BEGIN:STANDARD
TZOFFSETFROM:-0400
TZOFFSETTO:-0500
TZNAME:EST
DTSTART:20181104T060000
END:STANDARD
BEGIN:DAYLIGHT
TZOFFSETFROM:-0500
TZOFFSETTO:-0400
TZNAME:EDT
DTSTART:20190310T070000
END:DAYLIGHT
BEGIN:STANDARD
TZOFFSETFROM:-0400
TZOFFSETTO:-0500
TZNAME:EST
DTSTART:20191103T060000
END:STANDARD
END:VTIMEZONE
BEGIN:VEVENT
DTSTART;TZID=America/New_York:20180620T183000
DTEND;TZID=America/New_York:20180620T203000
DTSTAMP:20260418T123316
CREATED:20180614T175537Z
LAST-MODIFIED:20180614T175537Z
UID:10000850-1529519400-1529526600@ignitepeace.org
SUMMARY:FYI: Brightness of Noon:  The Intersect of Faith\, Immigration and Refugees documentary screening
DESCRIPTION:“Brightness of Noon: The Intersect of Faith\, Immigration and Refugees” is a two-part documentary that illuminates the risks people of faith are willing to take to protect the human rights of those fleeing violence\, and the struggles and triumphs of undocumented immigrants and refugees as they resettle in the United States.
URL:https://ignitepeace.org/event/fyi-brightness-of-noon-the-intersect-of-faith-immigration-and-refugees-documentary-screening/
LOCATION:Lutheran Church of the Resurrection\, 1950 Nagel Road\, Cincinnati\, OH\, 45255\, United States
CATEGORIES:Immigration
ATTACH;FMTTYPE=image/png:https://ignitepeace.org/wp-content/uploads/2015/09/Local-Community-Event-e1575319750814.png
END:VEVENT
END:VCALENDAR