BEGIN:VCALENDAR
VERSION:2.0
PRODID:-//Ignite Peace - ECPv6.15.20//NONSGML v1.0//EN
CALSCALE:GREGORIAN
METHOD:PUBLISH
X-WR-CALNAME:Ignite Peace
X-ORIGINAL-URL:https://ignitepeace.org
X-WR-CALDESC:Events for Ignite Peace
REFRESH-INTERVAL;VALUE=DURATION:PT1H
X-Robots-Tag:noindex
X-PUBLISHED-TTL:PT1H
BEGIN:VTIMEZONE
TZID:America/New_York
BEGIN:DAYLIGHT
TZOFFSETFROM:-0500
TZOFFSETTO:-0400
TZNAME:EDT
DTSTART:20230312T070000
END:DAYLIGHT
BEGIN:STANDARD
TZOFFSETFROM:-0400
TZOFFSETTO:-0500
TZNAME:EST
DTSTART:20231105T060000
END:STANDARD
BEGIN:DAYLIGHT
TZOFFSETFROM:-0500
TZOFFSETTO:-0400
TZNAME:EDT
DTSTART:20240310T070000
END:DAYLIGHT
BEGIN:STANDARD
TZOFFSETFROM:-0400
TZOFFSETTO:-0500
TZNAME:EST
DTSTART:20241103T060000
END:STANDARD
BEGIN:DAYLIGHT
TZOFFSETFROM:-0500
TZOFFSETTO:-0400
TZNAME:EDT
DTSTART:20250309T070000
END:DAYLIGHT
BEGIN:STANDARD
TZOFFSETFROM:-0400
TZOFFSETTO:-0500
TZNAME:EST
DTSTART:20251102T060000
END:STANDARD
BEGIN:DAYLIGHT
TZOFFSETFROM:-0500
TZOFFSETTO:-0400
TZNAME:EDT
DTSTART:20260308T070000
END:DAYLIGHT
BEGIN:STANDARD
TZOFFSETFROM:-0400
TZOFFSETTO:-0500
TZNAME:EST
DTSTART:20261101T060000
END:STANDARD
END:VTIMEZONE
BEGIN:VEVENT
DTSTART;TZID=America/New_York:20251112T173000
DTEND;TZID=America/New_York:20251112T193000
DTSTAMP:20260418T123343
CREATED:20250529T184534Z
LAST-MODIFIED:20250806T125911Z
UID:10001256-1762968600-1762975800@ignitepeace.org
SUMMARY:Strategic Nonviolence in Movements for Change
DESCRIPTION:Join us for Strategic Nonviolence in Movements for Change\, a dynamic training part of our Engaging Nonviolence series.\n\nParticipants will work to understand power and the different types of power\, learn about the history of nonviolence in social movements\, and dissect the four components of Strategic Nonviolence.\n\n\nRegister here ($25*)\n\n*We strive to keep our programming accessible for all. Please email us (info@ignitepeace.org) for information about free or discounted tickets if price is a barrier.
URL:https://ignitepeace.org/event/strategic-nonviolence-in-movements-for-change-2/
LOCATION:Ignite Peace\, 215 E 14th St\, Cincinnati\, OH\, 45202\, United States
CATEGORIES:Nonviolence,Peace
ATTACH;FMTTYPE=image/png:https://ignitepeace.org/wp-content/uploads/2025/05/Fall-2025.png
END:VEVENT
BEGIN:VEVENT
DTSTART;TZID=America/New_York:20251001T173000
DTEND;TZID=America/New_York:20251001T193000
DTSTAMP:20260418T123343
CREATED:20250529T184634Z
LAST-MODIFIED:20250806T125843Z
UID:10001257-1759339800-1759347000@ignitepeace.org
SUMMARY:Building a Culture of Nonviolence: Why We Need Nonviolence In Our World
DESCRIPTION:Join us for Building a Culture of Nonviolence: Why We Need Nonviolence In Our World\, a dynamic training part of our Engaging Nonviolence series.\n\nParticipants will explore some of the principles of Gandhi and Martin Luther King Jr.\, practice taking different perspectives and increasing one’s empathic abilities\, examine Constructive Programs and building a nonviolent vision for the future and become aware of the Soul Force we all have inside us.\n\n\nRegister here ($25*)\n\n*We strive to keep our programming accessible for all. Please email us (info@ignitepeace.org) for information about free or discounted tickets if price is a barrier.
URL:https://ignitepeace.org/event/building-a-culture-of-nonviolence-why-we-need-nonviolence-in-our-world-2/
LOCATION:Ignite Peace\, 215 E 14th St\, Cincinnati\, OH\, 45202\, United States
CATEGORIES:Nonviolence,Peace
ATTACH;FMTTYPE=image/png:https://ignitepeace.org/wp-content/uploads/2025/05/Fall-2025.png
END:VEVENT
BEGIN:VEVENT
DTSTART;TZID=America/New_York:20250910T173000
DTEND;TZID=America/New_York:20250910T193000
DTSTAMP:20260418T123343
CREATED:20250529T184744Z
LAST-MODIFIED:20250729T135525Z
UID:10001258-1757525400-1757532600@ignitepeace.org
SUMMARY:Conflict & Community: Using Nonviolence in Our Lives
DESCRIPTION:Join us for for Conflict & Community: Using Nonviolence in Our Lives\, a dynamic training part of our Engaging Nonviolence series.\n\nParticipants will explore a range of responses to conflict and violence\, understand how emotions give us information about our needs\, and practice deescalating tense situations using the CLARA method and the 5D’s of Bystander Intervention.\n\n\nRegister here ($25*)\n\n*We strive to keep our programming accessible for all. Please email us (info@ignitepeace.org) for information about free or discounted tickets if price is a barrier.
URL:https://ignitepeace.org/event/conflict-community-using-nonviolence-in-our-lives-2/
LOCATION:Ignite Peace\, 215 E 14th St\, Cincinnati\, OH\, 45202\, United States
CATEGORIES:Nonviolence,Peace
ATTACH;FMTTYPE=image/png:https://ignitepeace.org/wp-content/uploads/2025/05/Fall-2025.png
END:VEVENT
BEGIN:VEVENT
DTSTART;TZID=America/New_York:20250813T173000
DTEND;TZID=America/New_York:20250813T193000
DTSTAMP:20260418T123343
CREATED:20250529T184842Z
LAST-MODIFIED:20250728T140854Z
UID:10001259-1755106200-1755113400@ignitepeace.org
SUMMARY:Understanding Nonviolence: Unpacking Violence
DESCRIPTION:Join us for Understanding Nonviolence: Unpacking Violence\, a dynamic training part of our Engaging Nonviolence series.\n\nParticipants will work to understand the spectrum of violence\, gain a working knowledge of the five dimensions of nonviolence\, practice the Two Hands of Nonviolence and discuss Dr. King’s vision of a Beloved Community.\n\nRegister here ($25*)\n\n*We strive to keep our programming accessible for all. Please email us (info@ignitepeace.org) for information about free or discounted tickets if price is a barrier.
URL:https://ignitepeace.org/event/understanding-nonviolence-unpacking-violence-2/
LOCATION:Ignite Peace\, 215 E 14th St\, Cincinnati\, OH\, 45202\, United States
CATEGORIES:Nonviolence,Peace
ATTACH;FMTTYPE=image/png:https://ignitepeace.org/wp-content/uploads/2025/05/Fall-2025.png
END:VEVENT
BEGIN:VEVENT
DTSTART;TZID=America/New_York:20250516T143000
DTEND;TZID=America/New_York:20250516T170000
DTSTAMP:20260418T123343
CREATED:20250508T162103Z
LAST-MODIFIED:20250508T162103Z
UID:10001250-1747405800-1747414800@ignitepeace.org
SUMMARY:Poster Making: MLK Beloved Community
DESCRIPTION:Join us at the Ignite Peace office to make a poster\, then bring your poster to the MLK Coalition Rally on May 17th. \nPoster board and markers will be provided. \n  \nPoster Making: \nFriday\, May 16 \n2:30 – 5:00 PM \nIgnite Peace office \n  \nMLK Coalition Rally & March: \nSaturday\, May 17 \n1:00 – 3:00 PM \nFountain Square \n  \n 
URL:https://ignitepeace.org/event/poster-making-mlk-beloved-community/
LOCATION:Ignite Peace\, 215 E 14th St\, Cincinnati\, OH\, 45202\, United States
CATEGORIES:anti-racism,Justice,Nonviolence,Peace
ATTACH;FMTTYPE=image/png:https://ignitepeace.org/wp-content/uploads/2025/05/sign-messaging-ideas-for-upcoming-protests.png
END:VEVENT
BEGIN:VEVENT
DTSTART;TZID=America/New_York:20250212T180000
DTEND;TZID=America/New_York:20250212T200000
DTSTAMP:20260418T123343
CREATED:20241006T140442Z
LAST-MODIFIED:20241203T214916Z
UID:10001219-1739383200-1739390400@ignitepeace.org
SUMMARY:Conflict & Community: Using Nonviolence in Our Lives
DESCRIPTION:Join us for for Conflict & Community: Using Nonviolence in Our Lives\, a dynamic training part of our Engaging Nonviolence series.\n\nParticipants will explore a range of responses to conflict and violence\, practice taking different perspectives and increasing one’s empathic abilities\, understand how emotions give us information about our needs\, and practice deescalating tense situations using the CLARA method and the 5D’s of Bystander Intervention.\n\n\nRegister here ($25*)\n\n*We strive to keep our programming accessible for all. Please email us (info@ignitepeace.org) for information about free or discounted tickets if price is a barrier.
URL:https://ignitepeace.org/event/conflict-community-using-nonviolence-in-our-lives/
LOCATION:Ignite Peace\, 215 E 14th St\, Cincinnati\, OH\, 45202\, United States
ATTACH;FMTTYPE=image/png:https://ignitepeace.org/wp-content/uploads/2024/10/3.png
END:VEVENT
BEGIN:VEVENT
DTSTART;TZID=America/New_York:20250130T180000
DTEND;TZID=America/New_York:20250130T193000
DTSTAMP:20260418T123343
CREATED:20241217T203128Z
LAST-MODIFIED:20250130T152906Z
UID:10001231-1738260000-1738265400@ignitepeace.org
SUMMARY:Immigration 101
DESCRIPTION:The event is at capacity – we are not taking new registrations. \nAre you new to the Immigration Justice movement?  \nCould you use a refresher on how our immigration system works?  \nDo you know someone who wants to understand the issue of immigration better? \n  \nYou are invited to a special offering of our Immigration 101 presentation. We will define basic terms\, facilitate a small group activity using the Immigration Board Game\, offer a local story\, and encourage discussion on current events and challenges facing the immigrant community in Cincinnati. We will also provide ways for you to get plugged into our powerful movement for change. \nThe event is at capacity.
URL:https://ignitepeace.org/event/immigration-101/
LOCATION:Ignite Peace\, 215 E 14th St\, Cincinnati\, OH\, 45202\, United States
CATEGORIES:Immigration
ATTACH;FMTTYPE=image/png:https://ignitepeace.org/wp-content/uploads/2024/12/IMM-101-2025.png
END:VEVENT
BEGIN:VEVENT
DTSTART;TZID=America/New_York:20250115T180000
DTEND;TZID=America/New_York:20250115T200000
DTSTAMP:20260418T123343
CREATED:20241006T140353Z
LAST-MODIFIED:20241203T214853Z
UID:10001218-1736964000-1736971200@ignitepeace.org
SUMMARY:Understanding Nonviolence: Unpacking Violence
DESCRIPTION:Join us for Understanding Nonviolence: Unpacking Violence\, a dynamic training part of our Engaging Nonviolence series.\n\nParticipants will work to understand the spectrum of violence\, gain a working knowledge of the five dimensions of nonviolence\, practice the Two Hands of Nonviolence and discuss Dr. King’s vision of a Beloved Community.\n\nRegister here ($25*)\n\n*We strive to keep our programming accessible for all. Please email us (info@ignitepeace.org) for information about free or discounted tickets if price is a barrier.
URL:https://ignitepeace.org/event/understanding-nonviolence-unpacking-violence/
LOCATION:Ignite Peace\, 215 E 14th St\, Cincinnati\, OH\, 45202\, United States
CATEGORIES:Nonviolence,Peace
ATTACH;FMTTYPE=image/png:https://ignitepeace.org/wp-content/uploads/2024/10/2.png
END:VEVENT
BEGIN:VEVENT
DTSTART;TZID=America/New_York:20241216T180000
DTEND;TZID=America/New_York:20241216T193000
DTSTAMP:20260418T123343
CREATED:20241114T160025Z
LAST-MODIFIED:20241114T160025Z
UID:10001224-1734372000-1734377400@ignitepeace.org
SUMMARY:Holiday Card Signing
DESCRIPTION:Join us at the Ignite Peace office to write holiday cards for people on death row. \nFree parking available in the Peaslee lot. \nLight refreshments provided. \n  \nEmail Bekky@IgnitePeace.org for questions.
URL:https://ignitepeace.org/event/holiday-card-signing-2/
LOCATION:Ignite Peace\, 215 E 14th St\, Cincinnati\, OH\, 45202\, United States
CATEGORIES:death penalty
ATTACH;FMTTYPE=image/png:https://ignitepeace.org/wp-content/uploads/2024/11/Ignite-Peace-Office-Peaslee-Neighborhood-Center-215-E-14th-Street-600-PM-Free-Parking-in-the-Peaslee-Lot-Light-Refreshments-Provided.png
END:VEVENT
BEGIN:VEVENT
DTSTART;TZID=America/New_York:20240123T180000
DTEND;TZID=America/New_York:20240123T200000
DTSTAMP:20260418T123343
CREATED:20231208T203038Z
LAST-MODIFIED:20250513T194331Z
UID:10001192-1706032800-1706040000@ignitepeace.org
SUMMARY:Peace Potluck
DESCRIPTION:Bring a dish to share and hear from Anternita Oneal\, from Ohio Families Unite Against Police Brutality. \nRSVP Here. \nFree parking available in the Peaslee Neighborhood Center lot – be sure to grab a parking pass from the front desk when you arrive.
URL:https://ignitepeace.org/event/peace-potluck-3/
LOCATION:Ignite Peace\, 215 E 14th St\, Cincinnati\, OH\, 45202\, United States
ATTACH;FMTTYPE=image/png:https://ignitepeace.org/wp-content/uploads/2023/12/Peace-Potlucks-Square.png
END:VEVENT
END:VCALENDAR