BEGIN:VCALENDAR
VERSION:2.0
PRODID:-//Ignite Peace - ECPv6.15.20//NONSGML v1.0//EN
CALSCALE:GREGORIAN
METHOD:PUBLISH
X-WR-CALNAME:Ignite Peace
X-ORIGINAL-URL:https://ignitepeace.org
X-WR-CALDESC:Events for Ignite Peace
REFRESH-INTERVAL;VALUE=DURATION:PT1H
X-Robots-Tag:noindex
X-PUBLISHED-TTL:PT1H
BEGIN:VTIMEZONE
TZID:America/New_York
BEGIN:DAYLIGHT
TZOFFSETFROM:-0500
TZOFFSETTO:-0400
TZNAME:EDT
DTSTART:20190310T070000
END:DAYLIGHT
BEGIN:STANDARD
TZOFFSETFROM:-0400
TZOFFSETTO:-0500
TZNAME:EST
DTSTART:20191103T060000
END:STANDARD
BEGIN:DAYLIGHT
TZOFFSETFROM:-0500
TZOFFSETTO:-0400
TZNAME:EDT
DTSTART:20200308T070000
END:DAYLIGHT
BEGIN:STANDARD
TZOFFSETFROM:-0400
TZOFFSETTO:-0500
TZNAME:EST
DTSTART:20201101T060000
END:STANDARD
BEGIN:DAYLIGHT
TZOFFSETFROM:-0500
TZOFFSETTO:-0400
TZNAME:EDT
DTSTART:20210314T070000
END:DAYLIGHT
BEGIN:STANDARD
TZOFFSETFROM:-0400
TZOFFSETTO:-0500
TZNAME:EST
DTSTART:20211107T060000
END:STANDARD
END:VTIMEZONE
BEGIN:VEVENT
DTSTART;TZID=America/New_York:20200211T190000
DTEND;TZID=America/New_York:20200310T210000
DTSTAMP:20260418T123333
CREATED:20200130T212421Z
LAST-MODIFIED:20200130T212600Z
UID:10000976-1581447600-1583874000@ignitepeace.org
SUMMARY:Community Event: Drawdown
DESCRIPTION:The DRAWDOWN series is developed by the Pachamama Alliance and implemented locally by PACA (Pachamama Alliance Cincinnati Area). The next series is being co-sponsored with Green Umbrella. \nHow to Make a World of Difference \nAttend DRAWDOWN – Reversing global warming is possible. YOU can be part of making it happen. DRAWDOWN is a 5 part series to help you multiply your efforts for environmental sustainability. \nWHEN: Feb. 11\, Feb. 18\, Feb. 25\, Mar. 3\, and Mar. 10\, 2020 from 7:00p to 9:00p \nWHERE: Green Umbrella offices in the Starfire Council Building\, \n               5030 Oaklawn Drive (Madisonville\, OH) \nINFO & RSVP: to Jim Vogt  (859) 291-6197  jimvogt2@yahoo.com \nDEADLINE: Feb. 4\, 2020
URL:https://ignitepeace.org/event/community-event-drawdown/
LOCATION:Green Umbrella\, 5030 Oaklawn Drive\, Cincinnati\, OH\, 45227
ATTACH;FMTTYPE=image/png:https://ignitepeace.org/wp-content/uploads/2015/09/Local-Community-Event-e1575319750814.png
END:VEVENT
END:VCALENDAR