BEGIN:VCALENDAR
VERSION:2.0
PRODID:-//Ignite Peace - ECPv6.15.20//NONSGML v1.0//EN
CALSCALE:GREGORIAN
METHOD:PUBLISH
X-WR-CALNAME:Ignite Peace
X-ORIGINAL-URL:https://ignitepeace.org
X-WR-CALDESC:Events for Ignite Peace
REFRESH-INTERVAL;VALUE=DURATION:PT1H
X-Robots-Tag:noindex
X-PUBLISHED-TTL:PT1H
BEGIN:VTIMEZONE
TZID:America/New_York
BEGIN:DAYLIGHT
TZOFFSETFROM:-0500
TZOFFSETTO:-0400
TZNAME:EDT
DTSTART:20180311T070000
END:DAYLIGHT
BEGIN:STANDARD
TZOFFSETFROM:-0400
TZOFFSETTO:-0500
TZNAME:EST
DTSTART:20181104T060000
END:STANDARD
BEGIN:DAYLIGHT
TZOFFSETFROM:-0500
TZOFFSETTO:-0400
TZNAME:EDT
DTSTART:20190310T070000
END:DAYLIGHT
BEGIN:STANDARD
TZOFFSETFROM:-0400
TZOFFSETTO:-0500
TZNAME:EST
DTSTART:20191103T060000
END:STANDARD
BEGIN:DAYLIGHT
TZOFFSETFROM:-0500
TZOFFSETTO:-0400
TZNAME:EDT
DTSTART:20200308T070000
END:DAYLIGHT
BEGIN:STANDARD
TZOFFSETFROM:-0400
TZOFFSETTO:-0500
TZNAME:EST
DTSTART:20201101T060000
END:STANDARD
END:VTIMEZONE
BEGIN:VEVENT
DTSTART;TZID=America/New_York:20190925T181500
DTEND;TZID=America/New_York:20190925T210000
DTSTAMP:20260418T123330
CREATED:20190919T143722Z
LAST-MODIFIED:20190919T143722Z
UID:10000943-1569435300-1569445200@ignitepeace.org
SUMMARY:Brian Banks Film Screening
DESCRIPTION:Special screening of the film “Brian Banks” with Brian Banks! \nThis special event is being hosted by the Ohio Innocence Project’s Young Professionals group\, along with the Intercommunity Justice and Peace Center and Artswave\, at the Esquire Theater in Clifton. Brian Banks will be in attendance and participating in a post-movie Q&A session. \nBrian Banks Screening\nWednesday\, September 25th\, 6:15 PM\nEsquire Theater\n320 Ludlow Ave.\, Cincinnati\, OH 45220 \nIMPORTANT INFO: Tickets are required. To purchase tickets\, you’ll need to make a $10 donation to the Ohio Innocence Project at this ticket link. Then email a copy of your receipt to Katie Wood at woodkh@ucmail.uc.edu and you’ll be added to the list of attendees. \nCome hear Brian’s inspirational story firsthand and check out a movie that was an award winner at the Los Angeles Film Festival and owns a 97 percent audience approval rating on Rotten Tomatoes. \nTickets are $10 per person. The evening begins with a reception and cash bar (no credit cards) at 6:15 p.m. The movie starts at 7 p.m.\, followed immediately by the Q&A with Brian Banks. The cash bar will reopen upon the movie’s completion. \n 
URL:https://ignitepeace.org/event/brian-banks-film-screening/
LOCATION:Esquire Theater\, 320 Ludlow Ave\, Cincinnati\, OH\, 4542945220
CATEGORIES:death penalty
ATTACH;FMTTYPE=image/jpeg:https://ignitepeace.org/wp-content/uploads/2019/09/Brian-Banks-e1568903708310.jpg
END:VEVENT
END:VCALENDAR