BEGIN:VCALENDAR
VERSION:2.0
PRODID:-//Ignite Peace - ECPv6.15.20//NONSGML v1.0//EN
CALSCALE:GREGORIAN
METHOD:PUBLISH
X-ORIGINAL-URL:https://ignitepeace.org
X-WR-CALDESC:Events for Ignite Peace
REFRESH-INTERVAL;VALUE=DURATION:PT1H
X-Robots-Tag:noindex
X-PUBLISHED-TTL:PT1H
BEGIN:VTIMEZONE
TZID:America/New_York
BEGIN:DAYLIGHT
TZOFFSETFROM:-0500
TZOFFSETTO:-0400
TZNAME:EDT
DTSTART:20160313T070000
END:DAYLIGHT
BEGIN:STANDARD
TZOFFSETFROM:-0400
TZOFFSETTO:-0500
TZNAME:EST
DTSTART:20161106T060000
END:STANDARD
BEGIN:DAYLIGHT
TZOFFSETFROM:-0500
TZOFFSETTO:-0400
TZNAME:EDT
DTSTART:20170312T070000
END:DAYLIGHT
BEGIN:STANDARD
TZOFFSETFROM:-0400
TZOFFSETTO:-0500
TZNAME:EST
DTSTART:20171105T060000
END:STANDARD
BEGIN:DAYLIGHT
TZOFFSETFROM:-0500
TZOFFSETTO:-0400
TZNAME:EDT
DTSTART:20180311T070000
END:DAYLIGHT
BEGIN:STANDARD
TZOFFSETFROM:-0400
TZOFFSETTO:-0500
TZNAME:EST
DTSTART:20181104T060000
END:STANDARD
END:VTIMEZONE
BEGIN:VEVENT
DTSTART;TZID=America/New_York:20170716T150000
DTEND;TZID=America/New_York:20170716T170000
DTSTAMP:20260418T123425
CREATED:20170706T151334Z
LAST-MODIFIED:20180404T144902Z
UID:10000649-1500217200-1500224400@ignitepeace.org
SUMMARY:Immigrant Dignity Coalition Meeting
DESCRIPTION:You are invited to the next meeting of the Immigrant Dignity Coalition on Sunday\, July 16 from 3:00-5:00PM. We will gather at the Clifton Mosque (3668 Clifton Ave\, 45220 near bus routes 17\, 19\, 51) to share updates and action steps to address the issues of detention and deportation\, bullying and harassment and immigrant rights.\n\nTo help organize a carpool\, to request a language or for more information email ImmigrantDignityCoalition@gmail.com or call 513-579-8547. Spread the word! Translation services available.\n\nJoin the Facebook event here: https://goo.gl/jpEZHZ
URL:https://ignitepeace.org/event/immigrant-dignity-coalition-meeting/
LOCATION:Clifton Mosque\, 3668 Clifton Ave\, Cincinnati\, OH\, 45220\, United States
CATEGORIES:Immigration
END:VEVENT
END:VCALENDAR