BEGIN:VCALENDAR
VERSION:2.0
PRODID:-//Ignite Peace - ECPv6.15.20//NONSGML v1.0//EN
CALSCALE:GREGORIAN
METHOD:PUBLISH
X-ORIGINAL-URL:https://ignitepeace.org
X-WR-CALDESC:Events for Ignite Peace
REFRESH-INTERVAL;VALUE=DURATION:PT1H
X-Robots-Tag:noindex
X-PUBLISHED-TTL:PT1H
BEGIN:VTIMEZONE
TZID:America/New_York
BEGIN:DAYLIGHT
TZOFFSETFROM:-0500
TZOFFSETTO:-0400
TZNAME:EDT
DTSTART:20150308T070000
END:DAYLIGHT
BEGIN:STANDARD
TZOFFSETFROM:-0400
TZOFFSETTO:-0500
TZNAME:EST
DTSTART:20151101T060000
END:STANDARD
BEGIN:DAYLIGHT
TZOFFSETFROM:-0500
TZOFFSETTO:-0400
TZNAME:EDT
DTSTART:20160313T070000
END:DAYLIGHT
BEGIN:STANDARD
TZOFFSETFROM:-0400
TZOFFSETTO:-0500
TZNAME:EST
DTSTART:20161106T060000
END:STANDARD
BEGIN:DAYLIGHT
TZOFFSETFROM:-0500
TZOFFSETTO:-0400
TZNAME:EDT
DTSTART:20170312T070000
END:DAYLIGHT
BEGIN:STANDARD
TZOFFSETFROM:-0400
TZOFFSETTO:-0500
TZNAME:EST
DTSTART:20171105T060000
END:STANDARD
END:VTIMEZONE
BEGIN:VEVENT
DTSTART;TZID=America/New_York:20161026T190000
DTEND;TZID=America/New_York:20161026T203000
DTSTAMP:20260418T123216
CREATED:20161010T193122Z
LAST-MODIFIED:20180402T194426Z
UID:10000685-1477508400-1477513800@ignitepeace.org
SUMMARY:Sr. Simone Campbell: "Election 2016: Working to Mend the Gaps"
DESCRIPTION:Sr. Simone Campbell\, SSS\, executive director of NETWORK and the leader of Nuns on the Bus\, will offer an interactive presentation around wealth and income inequality as well as inequality in access to democracy\, health care\, citizenship\, and housing\, ultimately asking\, “What would Cincinnati look like if we mend these gaps?” \n  \n 
URL:https://ignitepeace.org/event/sr-simone-campbell-election-2016-working-mend-gaps/
LOCATION:Christ Church Cathedral\, 318 E 4th Street\, Cincinnati\, United States
CATEGORIES:Peace
END:VEVENT
END:VCALENDAR