BEGIN:VCALENDAR
VERSION:2.0
PRODID:-//Ignite Peace - ECPv6.15.20//NONSGML v1.0//EN
CALSCALE:GREGORIAN
METHOD:PUBLISH
X-WR-CALNAME:Ignite Peace
X-ORIGINAL-URL:https://ignitepeace.org
X-WR-CALDESC:Events for Ignite Peace
REFRESH-INTERVAL;VALUE=DURATION:PT1H
X-Robots-Tag:noindex
X-PUBLISHED-TTL:PT1H
BEGIN:VTIMEZONE
TZID:America/New_York
BEGIN:DAYLIGHT
TZOFFSETFROM:-0500
TZOFFSETTO:-0400
TZNAME:EDT
DTSTART:20170312T070000
END:DAYLIGHT
BEGIN:STANDARD
TZOFFSETFROM:-0400
TZOFFSETTO:-0500
TZNAME:EST
DTSTART:20171105T060000
END:STANDARD
BEGIN:DAYLIGHT
TZOFFSETFROM:-0500
TZOFFSETTO:-0400
TZNAME:EDT
DTSTART:20180311T070000
END:DAYLIGHT
BEGIN:STANDARD
TZOFFSETFROM:-0400
TZOFFSETTO:-0500
TZNAME:EST
DTSTART:20181104T060000
END:STANDARD
BEGIN:DAYLIGHT
TZOFFSETFROM:-0500
TZOFFSETTO:-0400
TZNAME:EDT
DTSTART:20190310T070000
END:DAYLIGHT
BEGIN:STANDARD
TZOFFSETFROM:-0400
TZOFFSETTO:-0500
TZNAME:EST
DTSTART:20191103T060000
END:STANDARD
END:VTIMEZONE
BEGIN:VEVENT
DTSTART;TZID=America/New_York:20180110T173000
DTEND;TZID=America/New_York:20180110T193000
DTSTAMP:20260418T123301
CREATED:20180109T195434Z
LAST-MODIFIED:20180109T195434Z
UID:10000801-1515605400-1515612600@ignitepeace.org
SUMMARY:FYI: Screening of Columbus Crossing Borders Project
DESCRIPTION:Click here to reserve your FREE seat on Eventbrite.\n \nThe Columbus Crossing Borders film Breathe Free is a moving\, powerful documentary that shares the stories of refugees and the art exhibit inspired by those stories. Through the lens of filmmaker Doug Swift\, we are introduced to those who fled war\, violence and persecution. We witness the unease and fear surrounding U.S. border issues. And we learn how this leads to 34 artists producing a project based on forced migration. \nThe evening begins with refreshments at 5:30 pm on Wednesday\, January 10. The film starts at 6 pm and will be followed by a Q&A panel.\n\nClick here to view the trailer. \nThe travelling art exhibit\, Columbus Crossing Borders\, will be on display at the Xavier University Art Gallery the following day. Learn more. \nThis screening is presented by Catholic Charities Southwestern Ohio\, CET-Think TV\, Xavier University Department of Art\, Sisters of Charity of Cincinnati\, and the Ursulines of Cincinnati in partnership with the Archdiocese of Cincinnati Social Action Office\, Bellarmine Chapel\, Immaculate Heart of Mary\, Islamic Center of Greater Cincinnati – Rahma Community Services\, St. Anthony Church (Madisonville)\, and Xavier University Center for Interfaith Community Engagement.
URL:https://ignitepeace.org/event/fyi-screening-columbus-crossing-borders-project/
LOCATION:CET Studios\, 1223 Central Parkway\, Cincinnati\, OH\, 45214\, United States
CATEGORIES:Immigration
ATTACH;FMTTYPE=image/jpeg:https://ignitepeace.org/wp-content/uploads/2018/01/Columbus-Crossing-Borders.jpg
END:VEVENT
END:VCALENDAR