BEGIN:VCALENDAR
VERSION:2.0
PRODID:-//Ignite Peace - ECPv6.15.20//NONSGML v1.0//EN
CALSCALE:GREGORIAN
METHOD:PUBLISH
X-ORIGINAL-URL:https://ignitepeace.org
X-WR-CALDESC:Events for Ignite Peace
REFRESH-INTERVAL;VALUE=DURATION:PT1H
X-Robots-Tag:noindex
X-PUBLISHED-TTL:PT1H
BEGIN:VTIMEZONE
TZID:America/New_York
BEGIN:DAYLIGHT
TZOFFSETFROM:-0500
TZOFFSETTO:-0400
TZNAME:EDT
DTSTART:20220313T070000
END:DAYLIGHT
BEGIN:STANDARD
TZOFFSETFROM:-0400
TZOFFSETTO:-0500
TZNAME:EST
DTSTART:20221106T060000
END:STANDARD
BEGIN:DAYLIGHT
TZOFFSETFROM:-0500
TZOFFSETTO:-0400
TZNAME:EDT
DTSTART:20230312T070000
END:DAYLIGHT
BEGIN:STANDARD
TZOFFSETFROM:-0400
TZOFFSETTO:-0500
TZNAME:EST
DTSTART:20231105T060000
END:STANDARD
BEGIN:DAYLIGHT
TZOFFSETFROM:-0500
TZOFFSETTO:-0400
TZNAME:EDT
DTSTART:20240310T070000
END:DAYLIGHT
BEGIN:STANDARD
TZOFFSETFROM:-0400
TZOFFSETTO:-0500
TZNAME:EST
DTSTART:20241103T060000
END:STANDARD
END:VTIMEZONE
BEGIN:VEVENT
DTSTART;TZID=America/New_York:20230513T103000
DTEND;TZID=America/New_York:20230513T130000
DTSTAMP:20260418T123344
CREATED:20230503T174224Z
LAST-MODIFIED:20230503T180255Z
UID:10001153-1683973800-1683982800@ignitepeace.org
SUMMARY:Canvass for the Affordable Housing Trust Fund
DESCRIPTION:IJPC supports Cincinnati Action for Housing Now’s initiative for affordable housing and we need your help to get it on the November ballot. \n  \nRSVP here. \n  \nThe day will include a brief training on how to collect signatures for the ballot initiative\, and then teams of two will go to Vine St\, Findlay Market\, and City Flea in Washington Park to talk to Cininnati voters about how we can fund more affordable housing in the city. Lunch will be provided. Can’t stay the whole time? No problem – show up when you can. \n  \nThe ballot measure would restore our earned income tax to its 2020 levels in order to provide a dedicated funding stream to develop housing for the most vulnerable. While there is some promising affordable housing development happening in Cincinnati\, very few of those units will serve those living <30% of the Area Median Income (<$18\,150/person). The .3% increase will result in $40-50 million per year dedicated to those who need it most. 
URL:https://ignitepeace.org/event/canvass-for-the-affordable-housing-trust-fund/
LOCATION:Buddy’s Place\, 1300 Vine St\, Cincinnati\, OH\, 45202\, United States
ATTACH;FMTTYPE=image/png:https://ignitepeace.org/wp-content/uploads/2023/05/Canvasssing-for-Affordable-Housing-e1683136969120.png
END:VEVENT
END:VCALENDAR