BEGIN:VCALENDAR
VERSION:2.0
PRODID:-//Ignite Peace - ECPv6.15.20//NONSGML v1.0//EN
CALSCALE:GREGORIAN
METHOD:PUBLISH
X-ORIGINAL-URL:https://ignitepeace.org
X-WR-CALDESC:Events for Ignite Peace
REFRESH-INTERVAL;VALUE=DURATION:PT1H
X-Robots-Tag:noindex
X-PUBLISHED-TTL:PT1H
BEGIN:VTIMEZONE
TZID:America/New_York
BEGIN:DAYLIGHT
TZOFFSETFROM:-0500
TZOFFSETTO:-0400
TZNAME:EDT
DTSTART:20140309T070000
END:DAYLIGHT
BEGIN:STANDARD
TZOFFSETFROM:-0400
TZOFFSETTO:-0500
TZNAME:EST
DTSTART:20141102T060000
END:STANDARD
BEGIN:DAYLIGHT
TZOFFSETFROM:-0500
TZOFFSETTO:-0400
TZNAME:EDT
DTSTART:20150308T070000
END:DAYLIGHT
BEGIN:STANDARD
TZOFFSETFROM:-0400
TZOFFSETTO:-0500
TZNAME:EST
DTSTART:20151101T060000
END:STANDARD
BEGIN:DAYLIGHT
TZOFFSETFROM:-0500
TZOFFSETTO:-0400
TZNAME:EDT
DTSTART:20160313T070000
END:DAYLIGHT
BEGIN:STANDARD
TZOFFSETFROM:-0400
TZOFFSETTO:-0500
TZNAME:EST
DTSTART:20161106T060000
END:STANDARD
BEGIN:DAYLIGHT
TZOFFSETFROM:-0500
TZOFFSETTO:-0400
TZNAME:EDT
DTSTART:20170312T070000
END:DAYLIGHT
BEGIN:STANDARD
TZOFFSETFROM:-0400
TZOFFSETTO:-0500
TZNAME:EST
DTSTART:20171105T060000
END:STANDARD
BEGIN:DAYLIGHT
TZOFFSETFROM:-0500
TZOFFSETTO:-0400
TZNAME:EDT
DTSTART:20180311T070000
END:DAYLIGHT
BEGIN:STANDARD
TZOFFSETFROM:-0400
TZOFFSETTO:-0500
TZNAME:EST
DTSTART:20181104T060000
END:STANDARD
BEGIN:DAYLIGHT
TZOFFSETFROM:-0500
TZOFFSETTO:-0400
TZNAME:EDT
DTSTART:20190310T070000
END:DAYLIGHT
BEGIN:STANDARD
TZOFFSETFROM:-0400
TZOFFSETTO:-0500
TZNAME:EST
DTSTART:20191103T060000
END:STANDARD
BEGIN:DAYLIGHT
TZOFFSETFROM:-0500
TZOFFSETTO:-0400
TZNAME:EDT
DTSTART:20200308T070000
END:DAYLIGHT
BEGIN:STANDARD
TZOFFSETFROM:-0400
TZOFFSETTO:-0500
TZNAME:EST
DTSTART:20201101T060000
END:STANDARD
BEGIN:DAYLIGHT
TZOFFSETFROM:-0500
TZOFFSETTO:-0400
TZNAME:EDT
DTSTART:20210314T070000
END:DAYLIGHT
BEGIN:STANDARD
TZOFFSETFROM:-0400
TZOFFSETTO:-0500
TZNAME:EST
DTSTART:20211107T060000
END:STANDARD
BEGIN:DAYLIGHT
TZOFFSETFROM:-0500
TZOFFSETTO:-0400
TZNAME:EDT
DTSTART:20220313T070000
END:DAYLIGHT
BEGIN:STANDARD
TZOFFSETFROM:-0400
TZOFFSETTO:-0500
TZNAME:EST
DTSTART:20221106T060000
END:STANDARD
END:VTIMEZONE
BEGIN:VEVENT
DTSTART;TZID=America/New_York:20211012T174500
DTEND;TZID=America/New_York:20211012T183000
DTSTAMP:20260418T123215
CREATED:20210921T174417Z
LAST-MODIFIED:20210921T174417Z
UID:10001053-1634060700-1634063400@ignitepeace.org
SUMMARY:Cincinnati Interfaith Vigil to End the Death Penalty
DESCRIPTION:On Tuesday\, October 12th\, people of faith across the city will join together in prayer to call for an end to the death penalty. The Cincinnati Interfaith Vigil to End the Death Penalty will be held outside\, near Bellarmine Chapel at Xavier University\, in the North Yard Stage. Parking is available in the Cintas Lot. Please wear a mask. \nThe event is supported by the Archdiocese of Cincinnati’s Offices of Catholic Social Action and Respect Life\, Bellarmine Chapel\, the Dorothy Day Center for Faith and Justice at Xavier University\, and the Intercommunity Justice and Peace Center. \nIf you represent a faith community that would like to participate in this event\, we’d welcome you to join us! Please reach out to Bekky Baker at bekky@IJPCcincinnati.org or 513.864.5783.
URL:https://ignitepeace.org/event/cincinnati-interfaith-vigil-to-end-the-death-penalty/
LOCATION:Bellarmine Chapel at Xavier University\, 3800 Victory Parkway\, Cincinnati\, 45207\, United States
CATEGORIES:death penalty
ATTACH;FMTTYPE=image/png:https://ignitepeace.org/wp-content/uploads/2021/09/NoDPFaithWeekCincyEvent.png
END:VEVENT
BEGIN:VEVENT
DTSTART;TZID=America/New_York:20181012T190000
DTEND;TZID=America/New_York:20181012T220000
DTSTAMP:20260418T123215
CREATED:20181005T211038Z
LAST-MODIFIED:20181005T211038Z
UID:10000867-1539370800-1539381600@ignitepeace.org
SUMMARY:Share the Journey: A Concert for Compassion
DESCRIPTION:“Share the Journey; a Concert for Compassion” is a benefit concert featuring local music artists and performers invited to donate their talents and resources to raise money for The Kino Border Initiative and the League of United Latin American Citizens. Both organizations work extensively to serve and assist refugees and immigrant families. \nSingle artists and groups from various music genres such as folk\, contemporary Christian\,  gospel\, indie\, etc. will perform and monies will be raised through ticket sales\, artists merchandise sales\, and donations. \nTickets are available for $15 online. Additional donations for the night are graciously accepted and checks can be made to Bellarmine Chapel.
URL:https://ignitepeace.org/event/share-the-journey-a-concert-for-compassion/
LOCATION:Bellarmine Chapel at Xavier University\, 3800 Victory Parkway\, Cincinnati\, 45207\, United States
ATTACH;FMTTYPE=image/png:https://ignitepeace.org/wp-content/uploads/2015/09/Local-Community-Event-e1575319750814.png
END:VEVENT
BEGIN:VEVENT
DTSTART;TZID=America/New_York:20170405T193000
DTEND;TZID=America/New_York:20170405T210000
DTSTAMP:20260418T123215
CREATED:20170221T200354Z
LAST-MODIFIED:20180404T143804Z
UID:10000705-1491420600-1491426000@ignitepeace.org
SUMMARY:A God of Life and a Civilization of Love: A Catholic Response to the Refugee and Immigration Crisis
DESCRIPTION:Daniel G. Groody\, Ph.D.\, is a Catholic priest\, a Holy Cross religious\, and a scholar with years of experience working in Latin America will present. He is currently an Associate Professor of Theology and Director of Immigration Initiatives at the Institute for Latino Studies at the University of Notre Dame. He is the author or producer of multiple award-winning books and films including Dying to Live. He has worked with the U.S. Congress\, the U.S. Conference of Catholic Bishops\, the World Council of Churches\, and the Vatican on issues of theology\, globalization\, and migration.
URL:https://ignitepeace.org/event/god-life-civilization-love-catholic-response-refugee-immigration-crisis/
LOCATION:Bellarmine Chapel at Xavier University\, 3800 Victory Parkway\, Cincinnati\, 45207\, United States
CATEGORIES:Immigration
ATTACH;FMTTYPE=image/png:https://ignitepeace.org/wp-content/uploads/2015/09/Local-Community-Event-e1575319750814.png
END:VEVENT
BEGIN:VEVENT
DTSTART;TZID=America/New_York:20160825T190000
DTEND;TZID=America/New_York:20160825T210000
DTSTAMP:20260418T123215
CREATED:20160817T153339Z
LAST-MODIFIED:20180402T190905Z
UID:10000589-1472151600-1472158800@ignitepeace.org
SUMMARY:How Do We Welcome the Stranger?
DESCRIPTION:An Evening of Story-Sharing & Ignatian Discernment focused on changing the narrative that surrounds millions of immigrants \nWhen: Thursday\, August 25\, 7 PM\nWhere: Bellarmine Chapel (3801 Ledgewood Dr\, 45207)\nCo-Sponsors: Bellarmine Chapel\, Su Casa\, IJPC\, YES\nQuestions? Contact our Director of Social Mission\, Tim Severyn at severynte @ xavier . edu or 513-745-1908\n \n  \n  \n  \n  \n  \n  \n 
URL:https://ignitepeace.org/event/how-do-we-welcome-the-stranger/
LOCATION:Bellarmine Chapel at Xavier University\, 3800 Victory Parkway\, Cincinnati\, 45207\, United States
ATTACH;FMTTYPE=image/png:https://ignitepeace.org/wp-content/uploads/2015/09/fav.png
ORGANIZER;CN="Tim Severyn":MAILTO:severynte @ xavier . edu
END:VEVENT
BEGIN:VEVENT
DTSTART;TZID=America/New_York:20151013T190000
DTEND;TZID=America/New_York:20151013T210000
DTSTAMP:20260418T123215
CREATED:20150923T141544Z
LAST-MODIFIED:20230120T160601Z
UID:10000608-1444762800-1444770000@ignitepeace.org
SUMMARY:Voices of Experience: The Death Penalty
DESCRIPTION:Join us for Voices of Experience: The Death Penalty\, at Xavier University\, featuring death row exoneree Joe D’Ambrosio\, and activists Alice Gerdeman\, CDP and Andrea Koverman\, SC.
URL:https://ignitepeace.org/event/death-penalty-forum/
LOCATION:Bellarmine Chapel at Xavier University\, 3800 Victory Parkway\, Cincinnati\, 45207\, United States
END:VEVENT
END:VCALENDAR