BEGIN:VCALENDAR
VERSION:2.0
PRODID:-//Ignite Peace - ECPv6.15.20//NONSGML v1.0//EN
CALSCALE:GREGORIAN
METHOD:PUBLISH
X-WR-CALNAME:Ignite Peace
X-ORIGINAL-URL:https://ignitepeace.org
X-WR-CALDESC:Events for Ignite Peace
REFRESH-INTERVAL;VALUE=DURATION:PT1H
X-Robots-Tag:noindex
X-PUBLISHED-TTL:PT1H
BEGIN:VTIMEZONE
TZID:America/New_York
BEGIN:DAYLIGHT
TZOFFSETFROM:-0500
TZOFFSETTO:-0400
TZNAME:EDT
DTSTART:20170312T070000
END:DAYLIGHT
BEGIN:STANDARD
TZOFFSETFROM:-0400
TZOFFSETTO:-0500
TZNAME:EST
DTSTART:20171105T060000
END:STANDARD
BEGIN:DAYLIGHT
TZOFFSETFROM:-0500
TZOFFSETTO:-0400
TZNAME:EDT
DTSTART:20180311T070000
END:DAYLIGHT
BEGIN:STANDARD
TZOFFSETFROM:-0400
TZOFFSETTO:-0500
TZNAME:EST
DTSTART:20181104T060000
END:STANDARD
BEGIN:DAYLIGHT
TZOFFSETFROM:-0500
TZOFFSETTO:-0400
TZNAME:EDT
DTSTART:20190310T070000
END:DAYLIGHT
BEGIN:STANDARD
TZOFFSETFROM:-0400
TZOFFSETTO:-0500
TZNAME:EST
DTSTART:20191103T060000
END:STANDARD
END:VTIMEZONE
BEGIN:VEVENT
DTSTART;TZID=America/New_York:20180501T124500
DTEND;TZID=America/New_York:20180501T140000
DTSTAMP:20260418T123314
CREATED:20180405T150320Z
LAST-MODIFIED:20180420T154210Z
UID:10000826-1525178700-1525183200@ignitepeace.org
SUMMARY:May Day Walk for Immigrant Worker Justice
DESCRIPTION:Join IJPC and partners for a May Day Walk for Immigrant Worker Justice. We will begin after the Cincinnati Interfaith Workers Centers’ May Day Brunch. Folks will gather at 12:45PM outside the Bell Event Center (444 Reading Rd\, Cincinnati\, OH 45202) and walk through the neighborhood to call attention to those who have been deported from our community and the need for us to become a true immigrant friendly city. \nFacebook event: https://www.facebook.com/events/445957079170145/
URL:https://ignitepeace.org/event/may-day-walk-for-immigrant-worker-justice/
LOCATION:Bell Event Center\, 444 Reading Rd\, Cincinnati\, OH\, 45202\, United States
CATEGORIES:Immigration
ATTACH;FMTTYPE=image/jpeg:https://ignitepeace.org/wp-content/uploads/2018/04/May-Day-Poster-Final-Ver-Small-For-Web.jpg
END:VEVENT
END:VCALENDAR