BEGIN:VCALENDAR
VERSION:2.0
PRODID:-//Ignite Peace - ECPv6.15.20//NONSGML v1.0//EN
CALSCALE:GREGORIAN
METHOD:PUBLISH
X-ORIGINAL-URL:https://ignitepeace.org
X-WR-CALDESC:Events for Ignite Peace
REFRESH-INTERVAL;VALUE=DURATION:PT1H
X-Robots-Tag:noindex
X-PUBLISHED-TTL:PT1H
BEGIN:VTIMEZONE
TZID:America/New_York
BEGIN:DAYLIGHT
TZOFFSETFROM:-0500
TZOFFSETTO:-0400
TZNAME:EDT
DTSTART:20170312T070000
END:DAYLIGHT
BEGIN:STANDARD
TZOFFSETFROM:-0400
TZOFFSETTO:-0500
TZNAME:EST
DTSTART:20171105T060000
END:STANDARD
BEGIN:DAYLIGHT
TZOFFSETFROM:-0500
TZOFFSETTO:-0400
TZNAME:EDT
DTSTART:20180311T070000
END:DAYLIGHT
BEGIN:STANDARD
TZOFFSETFROM:-0400
TZOFFSETTO:-0500
TZNAME:EST
DTSTART:20181104T060000
END:STANDARD
BEGIN:DAYLIGHT
TZOFFSETFROM:-0500
TZOFFSETTO:-0400
TZNAME:EDT
DTSTART:20190310T070000
END:DAYLIGHT
BEGIN:STANDARD
TZOFFSETFROM:-0400
TZOFFSETTO:-0500
TZNAME:EST
DTSTART:20191103T060000
END:STANDARD
END:VTIMEZONE
BEGIN:VEVENT
DTSTART;TZID=America/New_York:20180407T120000
DTEND;TZID=America/New_York:20180407T150000
DTSTAMP:20260418T123310
CREATED:20170918T150212Z
LAST-MODIFIED:20180405T144255Z
UID:10000776-1523102400-1523113200@ignitepeace.org
SUMMARY:FYI: MARCC ID Drive & Su Casa Health Fair
DESCRIPTION:Residents seeking to obtain the MARCC ID card need to provide the following information:\n–Photo ID (expired driver’s license\, national ID card\, passport\, marticula or other embassy ID)\n–Proof of residency with current address (utility bill\, current rent agreement\, medical record\, bank statement)\n–$15.00 (cash)\nNOTE: There are two sessions – 12:00-1:00 and 2:00-3:00
URL:https://ignitepeace.org/event/fyi-marcc-id-drive-su-casa-health-fair-2/
LOCATION:Academy for Multilingual Immersion Studies\, 1908 E Seymour Ave\, Cincinnati\, 45237
CATEGORIES:Immigration
ATTACH;FMTTYPE=image/png:https://ignitepeace.org/wp-content/uploads/2015/09/Local-Community-Event-e1575319750814.png
END:VEVENT
END:VCALENDAR