BEGIN:VCALENDAR
VERSION:2.0
PRODID:-//Ignite Peace - ECPv6.15.20//NONSGML v1.0//EN
CALSCALE:GREGORIAN
METHOD:PUBLISH
X-ORIGINAL-URL:https://ignitepeace.org
X-WR-CALDESC:Events for Ignite Peace
REFRESH-INTERVAL;VALUE=DURATION:PT1H
X-Robots-Tag:noindex
X-PUBLISHED-TTL:PT1H
BEGIN:VTIMEZONE
TZID:America/New_York
BEGIN:DAYLIGHT
TZOFFSETFROM:-0500
TZOFFSETTO:-0400
TZNAME:EDT
DTSTART:20150308T070000
END:DAYLIGHT
BEGIN:STANDARD
TZOFFSETFROM:-0400
TZOFFSETTO:-0500
TZNAME:EST
DTSTART:20151101T060000
END:STANDARD
BEGIN:DAYLIGHT
TZOFFSETFROM:-0500
TZOFFSETTO:-0400
TZNAME:EDT
DTSTART:20160313T070000
END:DAYLIGHT
BEGIN:STANDARD
TZOFFSETFROM:-0400
TZOFFSETTO:-0500
TZNAME:EST
DTSTART:20161106T060000
END:STANDARD
BEGIN:DAYLIGHT
TZOFFSETFROM:-0500
TZOFFSETTO:-0400
TZNAME:EDT
DTSTART:20170312T070000
END:DAYLIGHT
BEGIN:STANDARD
TZOFFSETFROM:-0400
TZOFFSETTO:-0500
TZNAME:EST
DTSTART:20171105T060000
END:STANDARD
END:VTIMEZONE
BEGIN:VEVENT
DTSTART;TZID=America/New_York:20160825T190000
DTEND;TZID=America/New_York:20160825T210000
DTSTAMP:20260418T123358
CREATED:20160817T153339Z
LAST-MODIFIED:20180402T190905Z
UID:10000589-1472151600-1472158800@ignitepeace.org
SUMMARY:How Do We Welcome the Stranger?
DESCRIPTION:An Evening of Story-Sharing & Ignatian Discernment focused on changing the narrative that surrounds millions of immigrants \nWhen: Thursday\, August 25\, 7 PM\nWhere: Bellarmine Chapel (3801 Ledgewood Dr\, 45207)\nCo-Sponsors: Bellarmine Chapel\, Su Casa\, IJPC\, YES\nQuestions? Contact our Director of Social Mission\, Tim Severyn at severynte @ xavier . edu or 513-745-1908\n \n  \n  \n  \n  \n  \n  \n 
URL:https://ignitepeace.org/event/how-do-we-welcome-the-stranger/
LOCATION:Bellarmine Chapel at Xavier University\, 3800 Victory Parkway\, Cincinnati\, 45207\, United States
ATTACH;FMTTYPE=image/png:https://ignitepeace.org/wp-content/uploads/2015/09/fav.png
ORGANIZER;CN="Tim Severyn":MAILTO:severynte @ xavier . edu
END:VEVENT
END:VCALENDAR