BEGIN:VCALENDAR
VERSION:2.0
PRODID:-//Ignite Peace - ECPv6.15.20//NONSGML v1.0//EN
CALSCALE:GREGORIAN
METHOD:PUBLISH
X-WR-CALNAME:Ignite Peace
X-ORIGINAL-URL:https://ignitepeace.org
X-WR-CALDESC:Events for Ignite Peace
REFRESH-INTERVAL;VALUE=DURATION:PT1H
X-Robots-Tag:noindex
X-PUBLISHED-TTL:PT1H
BEGIN:VTIMEZONE
TZID:America/New_York
BEGIN:DAYLIGHT
TZOFFSETFROM:-0500
TZOFFSETTO:-0400
TZNAME:EDT
DTSTART:20140309T070000
END:DAYLIGHT
BEGIN:STANDARD
TZOFFSETFROM:-0400
TZOFFSETTO:-0500
TZNAME:EST
DTSTART:20141102T060000
END:STANDARD
BEGIN:DAYLIGHT
TZOFFSETFROM:-0500
TZOFFSETTO:-0400
TZNAME:EDT
DTSTART:20150308T070000
END:DAYLIGHT
BEGIN:STANDARD
TZOFFSETFROM:-0400
TZOFFSETTO:-0500
TZNAME:EST
DTSTART:20151101T060000
END:STANDARD
BEGIN:DAYLIGHT
TZOFFSETFROM:-0500
TZOFFSETTO:-0400
TZNAME:EDT
DTSTART:20160313T070000
END:DAYLIGHT
BEGIN:STANDARD
TZOFFSETFROM:-0400
TZOFFSETTO:-0500
TZNAME:EST
DTSTART:20161106T060000
END:STANDARD
END:VTIMEZONE
BEGIN:VEVENT
DTSTART;TZID=America/New_York:20151010T193000
DTEND;TZID=America/New_York:20151010T220000
DTSTAMP:20260418T123356
CREATED:20150930T173816Z
LAST-MODIFIED:20230120T160608Z
UID:10000609-1444505400-1444514400@ignitepeace.org
SUMMARY:Movie: Selma
DESCRIPTION:An event sponsored by the Contact Center and Over-the-Rhine Community Council. You are invited to see the movie “Selma” Saturday\, Oct. 10th\, in Washington Park. Speakers will start at 7:30 p.m. discussing the legacy of the Civil Rights Movement and the Voting Rights Act of 1965 (prior to the movie’s start). It’s free! Everyone is welcome! Bring your blankets and fold up chairs. In case of rain\, Pastor Bruce Ferguson of First Lutheran Church has generously offered the use of his church across the street to show the movie. \n 
URL:https://ignitepeace.org/event/movie-selma/
LOCATION:Washington Park\, 14th street and elm street\, Cincinnati\, 45202\, United States
ATTACH;FMTTYPE=image/png:https://ignitepeace.org/wp-content/uploads/2015/09/Local-Community-Event-e1575319750814.png
END:VEVENT
END:VCALENDAR