BEGIN:VCALENDAR
VERSION:2.0
PRODID:-//Ignite Peace - ECPv6.15.20//NONSGML v1.0//EN
CALSCALE:GREGORIAN
METHOD:PUBLISH
X-WR-CALNAME:Ignite Peace
X-ORIGINAL-URL:https://ignitepeace.org
X-WR-CALDESC:Events for Ignite Peace
REFRESH-INTERVAL;VALUE=DURATION:PT1H
X-Robots-Tag:noindex
X-PUBLISHED-TTL:PT1H
BEGIN:VTIMEZONE
TZID:America/New_York
BEGIN:DAYLIGHT
TZOFFSETFROM:-0500
TZOFFSETTO:-0400
TZNAME:EDT
DTSTART:20150308T070000
END:DAYLIGHT
BEGIN:STANDARD
TZOFFSETFROM:-0400
TZOFFSETTO:-0500
TZNAME:EST
DTSTART:20151101T060000
END:STANDARD
BEGIN:DAYLIGHT
TZOFFSETFROM:-0500
TZOFFSETTO:-0400
TZNAME:EDT
DTSTART:20160313T070000
END:DAYLIGHT
BEGIN:STANDARD
TZOFFSETFROM:-0400
TZOFFSETTO:-0500
TZNAME:EST
DTSTART:20161106T060000
END:STANDARD
BEGIN:DAYLIGHT
TZOFFSETFROM:-0500
TZOFFSETTO:-0400
TZNAME:EDT
DTSTART:20170312T070000
END:DAYLIGHT
BEGIN:STANDARD
TZOFFSETFROM:-0400
TZOFFSETTO:-0500
TZNAME:EST
DTSTART:20171105T060000
END:STANDARD
END:VTIMEZONE
BEGIN:VEVENT
DTSTART;TZID=America/New_York:20160114T183000
DTEND;TZID=America/New_York:20160114T203000
DTSTAMP:20260418T123605
CREATED:20151216T192014Z
LAST-MODIFIED:20180402T171624Z
UID:10000619-1452796200-1452803400@ignitepeace.org
SUMMARY:Rethinking Racism
DESCRIPTION:Nationwide\, communities are galvanizing and demanding institutions to address racism. In this spirit\, the Cincinnati Human Relations Commission and Intercommunity Justice and Peace Center are partnering to challenge organizations and individuals to make a commitment to addressing and ending racism\, with an initiative entitled\, “Rethinking Racism.” The kick off event for this collaborative will be an open space dialogue and workshop taking place Thursday January 14\, 2016 6:30-8:30 at Father Rivers Hall at St. Joseph Parish 745 Ezzard Charles Drive Cincinnati\, OH 45202. Attendees will have the opportunity to address their perceptions of modern day racism and participate in action based strategizing. \nRSVPs are requested through Eventbrite or by calling IJPC at 513.579.8547. See the Rethinking Racism Press Release for more information. \nInvite and share with your friends on Facebook!
URL:https://ignitepeace.org/event/rethinking-racism-2/
LOCATION:St. Joseph Parish\, 745 Ezzard Charles Drive\, Cincinnati\, OH\, 45202\, United States
CATEGORIES:Peace
END:VEVENT
END:VCALENDAR