BEGIN:VCALENDAR
VERSION:2.0
PRODID:-//Ignite Peace - ECPv6.15.20//NONSGML v1.0//EN
CALSCALE:GREGORIAN
METHOD:PUBLISH
X-ORIGINAL-URL:https://ignitepeace.org
X-WR-CALDESC:Events for Ignite Peace
REFRESH-INTERVAL;VALUE=DURATION:PT1H
X-Robots-Tag:noindex
X-PUBLISHED-TTL:PT1H
BEGIN:VTIMEZONE
TZID:America/New_York
BEGIN:DAYLIGHT
TZOFFSETFROM:-0500
TZOFFSETTO:-0400
TZNAME:EDT
DTSTART:20250309T070000
END:DAYLIGHT
BEGIN:STANDARD
TZOFFSETFROM:-0400
TZOFFSETTO:-0500
TZNAME:EST
DTSTART:20251102T060000
END:STANDARD
BEGIN:DAYLIGHT
TZOFFSETFROM:-0500
TZOFFSETTO:-0400
TZNAME:EDT
DTSTART:20260308T070000
END:DAYLIGHT
BEGIN:STANDARD
TZOFFSETFROM:-0400
TZOFFSETTO:-0500
TZNAME:EST
DTSTART:20261101T060000
END:STANDARD
BEGIN:DAYLIGHT
TZOFFSETFROM:-0500
TZOFFSETTO:-0400
TZNAME:EDT
DTSTART:20270314T070000
END:DAYLIGHT
BEGIN:STANDARD
TZOFFSETFROM:-0400
TZOFFSETTO:-0500
TZNAME:EST
DTSTART:20271107T060000
END:STANDARD
END:VTIMEZONE
BEGIN:VEVENT
DTSTART;TZID=America/New_York:20260802T130000
DTEND;TZID=America/New_York:20260802T170000
DTSTAMP:20260418T122956
CREATED:20260318T143931Z
LAST-MODIFIED:20260318T144120Z
UID:10001296-1785675600-1785690000@ignitepeace.org
SUMMARY:9th Annual Cincinnati Festival of Faiths
DESCRIPTION:Join Ignite Peace and our faith partners at the 9th Annual Cincinnati Festival of Faiths! \nSunday\, August 2 \n1:00-5:00PM \nCintas Center\, Xavier University \nMore information here.
URL:https://ignitepeace.org/event/9th-annual-cincinnati-festival-of-faiths/
LOCATION:Xavier University – Cintas Center\, 1624 Musketeer Dr\, Cincinnati\, OH\, 45207\, United States
CATEGORIES:Dialogue,Justice,Nonviolence,Peace
ATTACH;FMTTYPE=image/jpeg:https://ignitepeace.org/wp-content/uploads/2026/03/Barb-Ross-Spring.jpg
END:VEVENT
END:VCALENDAR