BEGIN:VCALENDAR
VERSION:2.0
PRODID:-//Ignite Peace - ECPv6.15.20//NONSGML v1.0//EN
CALSCALE:GREGORIAN
METHOD:PUBLISH
X-ORIGINAL-URL:https://ignitepeace.org
X-WR-CALDESC:Events for Ignite Peace
REFRESH-INTERVAL;VALUE=DURATION:PT1H
X-Robots-Tag:noindex
X-PUBLISHED-TTL:PT1H
BEGIN:VTIMEZONE
TZID:America/New_York
BEGIN:DAYLIGHT
TZOFFSETFROM:-0500
TZOFFSETTO:-0400
TZNAME:EDT
DTSTART:20150308T070000
END:DAYLIGHT
BEGIN:STANDARD
TZOFFSETFROM:-0400
TZOFFSETTO:-0500
TZNAME:EST
DTSTART:20151101T060000
END:STANDARD
BEGIN:DAYLIGHT
TZOFFSETFROM:-0500
TZOFFSETTO:-0400
TZNAME:EDT
DTSTART:20160313T070000
END:DAYLIGHT
BEGIN:STANDARD
TZOFFSETFROM:-0400
TZOFFSETTO:-0500
TZNAME:EST
DTSTART:20161106T060000
END:STANDARD
BEGIN:DAYLIGHT
TZOFFSETFROM:-0500
TZOFFSETTO:-0400
TZNAME:EDT
DTSTART:20170312T070000
END:DAYLIGHT
BEGIN:STANDARD
TZOFFSETFROM:-0400
TZOFFSETTO:-0500
TZNAME:EST
DTSTART:20171105T060000
END:STANDARD
BEGIN:DAYLIGHT
TZOFFSETFROM:-0500
TZOFFSETTO:-0400
TZNAME:EDT
DTSTART:20180311T070000
END:DAYLIGHT
BEGIN:STANDARD
TZOFFSETFROM:-0400
TZOFFSETTO:-0500
TZNAME:EST
DTSTART:20181104T060000
END:STANDARD
BEGIN:DAYLIGHT
TZOFFSETFROM:-0500
TZOFFSETTO:-0400
TZNAME:EDT
DTSTART:20190310T070000
END:DAYLIGHT
BEGIN:STANDARD
TZOFFSETFROM:-0400
TZOFFSETTO:-0500
TZNAME:EST
DTSTART:20191103T060000
END:STANDARD
BEGIN:DAYLIGHT
TZOFFSETFROM:-0500
TZOFFSETTO:-0400
TZNAME:EDT
DTSTART:20200308T070000
END:DAYLIGHT
BEGIN:STANDARD
TZOFFSETFROM:-0400
TZOFFSETTO:-0500
TZNAME:EST
DTSTART:20201101T060000
END:STANDARD
END:VTIMEZONE
BEGIN:VEVENT
DTSTART;TZID=America/New_York:20190305T183000
DTEND;TZID=America/New_York:20190305T203000
DTSTAMP:20260418T123457
CREATED:20190208T170325Z
LAST-MODIFIED:20190211T164931Z
UID:10000750-1551810600-1551817800@ignitepeace.org
SUMMARY:Rethinking Racism Open Space: The Physics of Racial Justice
DESCRIPTION:Join the organizers of Rethinking Racism as we unpack the question\, “What does the force of love need to look like to overcome the force of hate?” Dan Joyner will facilitate the open space event\, where participants will set the conversation topics and guide corresponding discussion groups. Doors open at 6:00 pm\, and the event will begin promptly at 6:30. Tickets are not needed but helpful for RSVP purposes.
URL:https://ignitepeace.org/event/rethinking-racism-open-space-the-physics-of-racial-justice/
LOCATION:College Hill Presbyterian Church\, 5742 Hamilton Ave\, Cincinnati\, OH\, 45224\, United States
CATEGORIES:Dialogue,Justice,Peace
ATTACH;FMTTYPE=image/jpeg:https://ignitepeace.org/wp-content/uploads/2019/02/RR-3.5-Open-Space.Revised-1-e1549903746124.jpg
END:VEVENT
BEGIN:VEVENT
DTSTART;TZID=America/New_York:20190130T183000
DTEND;TZID=America/New_York:20190130T200000
DTSTAMP:20260418T123457
CREATED:20181203T194443Z
LAST-MODIFIED:20181203T194601Z
UID:10000891-1548873000-1548878400@ignitepeace.org
SUMMARY:Steps to a More Humanitarian World
DESCRIPTION:RSVP via Eventbrite here. \nFacebook event page here.
URL:https://ignitepeace.org/event/steps-to-a-more-humanitarian-world/
LOCATION:American Red Cross – Cincinnati\, 2111 Dana Ave\, Cincinnati\, OH\, 45207\, United States
CATEGORIES:Immigration,Justice,Peace
ATTACH;FMTTYPE=image/jpeg:https://ignitepeace.org/wp-content/uploads/2018/12/Steps-to-a-More-Humanitarian-World-JPG-sfw.jpg
END:VEVENT
BEGIN:VEVENT
DTSTART;TZID=America/New_York:20180905T180000
DTEND;TZID=America/New_York:20180905T203000
DTSTAMP:20260418T123457
CREATED:20180830T153721Z
LAST-MODIFIED:20180830T153721Z
UID:10000730-1536170400-1536179400@ignitepeace.org
SUMMARY:What Is and What Can Be: Women of Color and the Struggle for Justice
DESCRIPTION:IJPC is proud to support the telling the stories of women of color in Cincinnati\, including one of our own YES advisory board members\, Heyra Avila! Facebook event page here.
URL:https://ignitepeace.org/event/what-is-and-what-can-be-women-of-color-and-the-struggle-for-justice/
LOCATION:Reverb Art + Design\, 130 W Court St\, Cincinnati\, OH\, 45202\, United States
CATEGORIES:Immigration,Justice
ATTACH;FMTTYPE=image/jpeg:https://ignitepeace.org/wp-content/uploads/2018/08/What-Is-Event.jpg
END:VEVENT
BEGIN:VEVENT
DTSTART;TZID=America/New_York:20170619T183000
DTEND;TZID=America/New_York:20170619T203000
DTSTAMP:20260418T123457
CREATED:20170613T202011Z
LAST-MODIFIED:20180404T144740Z
UID:10000647-1497897000-1497904200@ignitepeace.org
SUMMARY:Rethinking Racism: Exploring History\, Reality and Fears About Gentrification
DESCRIPTION:Our next large gathering for Rethinking Racism will be on June 19th where we will be educating about and exploring the theme of gentrification. We will start off with a viewing of the documentary Good White People. Kiki and Marcus\, two students from Peaslee Neighborhood Center’s Agents of Change\, will share their struggle about holding onto their neighborhood assets and Jenn Arens will lead a simulation regarding affordable housing loss in Over-the-Rhine. RSVP here and share with your networks.
URL:https://ignitepeace.org/event/rethinking-racism-exploring-history-reality-fears-gentrification/
LOCATION:DePaul Cristo Rey High School\, 1133 Clifton Hills Avenue\, Cincinnati\, OH\, 45220\, United States
CATEGORIES:Justice,Peace
END:VEVENT
BEGIN:VEVENT
DTSTART;TZID=America/New_York:20170326T190000
DTEND;TZID=America/New_York:20170326T203000
DTSTAMP:20260418T123457
CREATED:20170308T200839Z
LAST-MODIFIED:20180402T202739Z
UID:10000716-1490554800-1490560200@ignitepeace.org
SUMMARY:Daniel Rudd: Calling a Church to Justice
DESCRIPTION:In May of 1890\, The Christian Solider\, an African American newspaper\, identified the Catholic journalist and activist Daniel Arthur Rudd as the “greatest negro Catholic in America.” Yet many Catholics today are unaware of Rudd’s efforts to bring about positive social change during the early decades of the Jim Crow era. \nDr. Gary Agee\, Associate Professor of Church History at Anderson University will present a compelling look at the life and work of this visionary who found inspiration in his Catholic faith to fight for the principles of liberty and justice.
URL:https://ignitepeace.org/event/daniel-rudd-calling-church-justice/
LOCATION:St. Monica – St. George Parish Center\, 328 W McMillan Street\, Cincinnati\, OH\, 45219\, United States
CATEGORIES:Justice
END:VEVENT
BEGIN:VEVENT
DTSTART;TZID=America/New_York:20170209T190000
DTEND;TZID=America/New_York:20170209T203000
DTSTAMP:20260418T123457
CREATED:20161116T150623Z
LAST-MODIFIED:20180402T200524Z
UID:10000598-1486666800-1486672200@ignitepeace.org
SUMMARY:Peace Committee Meeting: Staff reflection from time in Israel & Palestine
DESCRIPTION:Andrea Koverman\, SC\, will share a reflection of her time in Israel and Palestine.  Andrea and two other colleagues visited Israel and Palestine through HOPE (Holy Land Outreach Promoting Education). Their mission included visiting Jordan where they met Fr. Khalil Ja’ar\, Iraqi refugee families including some of the children\, who are enrolled in the refugee camp in Marka. In Bethlehem\, they visited Hogar Nino Dios\, a home for abandoned and disabled children and  the Aida Refugee camp. They shared information about a program called TLC (Trauma Loss in Children) and offered suggestions for emotional behavioral accommodations and modifications. Also water filters\, donated by the Sisters of Charity\, were brought to the refugee camps. One filter provides clean water for 5 families for 10 years and all that is needed is a bucket. \nThis is instead of the normal monthly Peace Committee meeting.
URL:https://ignitepeace.org/event/peace-committee-meeting-staff-reflection-time-israel-palestine/
LOCATION:IJPC\, 215 E 14th Street\, Cincinnati\, OH\, 45202\, United States
CATEGORIES:Justice,Peace
END:VEVENT
BEGIN:VEVENT
DTSTART;TZID=America/New_York:20160409T090000
DTEND;TZID=America/New_York:20160409T130000
DTSTAMP:20260418T123457
CREATED:20160323T200915Z
LAST-MODIFIED:20180402T182207Z
UID:10000651-1460192400-1460206800@ignitepeace.org
SUMMARY:MeetUp4RacialJustice Workshop
DESCRIPTION:UU Justice Ohio and UU Council of Greater Cincinnati will be hosting a Racial Justice Workshop on April 9th. \nThe workshop aims to identify concrete proposals to address police violence; to plan effective\, joint strategies for promoting criminal justice reforms at state/local levels; and to share best practices for raising consciousness about racial justice issues. Keynote speakers are Troy Jackson (Director\, AMOS Project)\, Pastor Ennis Tait (Church of the Living God)\, and Stephen Johnson-Grove (Ohio Justice and Policy Center). \nPlease register by April 2nd at the website listed below. \n  \n 
URL:https://ignitepeace.org/event/meetup4racialjustice-workshop/
LOCATION:St. John’s – Unitarian Universalist\, 320 Resor Ave\, Cincinnati\, OH\, 45220\, United States
CATEGORIES:Justice,Peace
ATTACH;FMTTYPE=image/png:https://ignitepeace.org/wp-content/uploads/2015/09/Local-Community-Event-e1575319750814.png
END:VEVENT
END:VCALENDAR