BEGIN:VCALENDAR
VERSION:2.0
PRODID:-//Ignite Peace - ECPv6.15.20//NONSGML v1.0//EN
CALSCALE:GREGORIAN
METHOD:PUBLISH
X-WR-CALNAME:Ignite Peace
X-ORIGINAL-URL:https://ignitepeace.org
X-WR-CALDESC:Events for Ignite Peace
REFRESH-INTERVAL;VALUE=DURATION:PT1H
X-Robots-Tag:noindex
X-PUBLISHED-TTL:PT1H
BEGIN:VTIMEZONE
TZID:America/New_York
BEGIN:DAYLIGHT
TZOFFSETFROM:-0500
TZOFFSETTO:-0400
TZNAME:EDT
DTSTART:20150308T070000
END:DAYLIGHT
BEGIN:STANDARD
TZOFFSETFROM:-0400
TZOFFSETTO:-0500
TZNAME:EST
DTSTART:20151101T060000
END:STANDARD
BEGIN:DAYLIGHT
TZOFFSETFROM:-0500
TZOFFSETTO:-0400
TZNAME:EDT
DTSTART:20160313T070000
END:DAYLIGHT
BEGIN:STANDARD
TZOFFSETFROM:-0400
TZOFFSETTO:-0500
TZNAME:EST
DTSTART:20161106T060000
END:STANDARD
BEGIN:DAYLIGHT
TZOFFSETFROM:-0500
TZOFFSETTO:-0400
TZNAME:EDT
DTSTART:20170312T070000
END:DAYLIGHT
BEGIN:STANDARD
TZOFFSETFROM:-0400
TZOFFSETTO:-0500
TZNAME:EST
DTSTART:20171105T060000
END:STANDARD
BEGIN:DAYLIGHT
TZOFFSETFROM:-0500
TZOFFSETTO:-0400
TZNAME:EDT
DTSTART:20180311T070000
END:DAYLIGHT
BEGIN:STANDARD
TZOFFSETFROM:-0400
TZOFFSETTO:-0500
TZNAME:EST
DTSTART:20181104T060000
END:STANDARD
END:VTIMEZONE
BEGIN:VEVENT
DTSTART;TZID=America/New_York:20170223T180000
DTEND;TZID=America/New_York:20170223T200000
DTSTAMP:20260418T123620
CREATED:20170201T162526Z
LAST-MODIFIED:20170201T162526Z
UID:10000699-1487872800-1487880000@ignitepeace.org
SUMMARY:February YES Meeting
DESCRIPTION:Join Y.E.S. (Youth Educating Society) to educate yourself and others about and advocate for comprehensive immigration reform.  This meeting YES will be celebrating its 6 year anniversary so come enjoy some cake and learn about YES. This meeting would be great for new folks!
URL:https://ignitepeace.org/event/february-yes-meeting/
LOCATION:OH
CATEGORIES:Immigration
END:VEVENT
BEGIN:VEVENT
DTSTART;TZID=America/New_York:20170223T150000
DTEND;TZID=America/New_York:20170223T160000
DTSTAMP:20260418T123620
CREATED:20170201T162310Z
LAST-MODIFIED:20170201T162310Z
UID:10000698-1487862000-1487865600@ignitepeace.org
SUMMARY:February Immigration Coalition Meeting
DESCRIPTION:Come join the IJPC Immigration Committee to learn more about events planned\, advocacy opportunities and and opportunity for education regarding immigration.
URL:https://ignitepeace.org/event/february-immigration-coalition-meeting/
LOCATION:IJPC\, 215 E 14th Street\, Cincinnati\, OH\, 45202\, United States
CATEGORIES:Immigration
END:VEVENT
BEGIN:VEVENT
DTSTART;TZID=America/New_York:20170217T130000
DTEND;TZID=America/New_York:20170217T140000
DTSTAMP:20260418T123620
CREATED:20170210T160752Z
LAST-MODIFIED:20180402T200831Z
UID:10000702-1487336400-1487340000@ignitepeace.org
SUMMARY:Bridges Not Walls
DESCRIPTION:IJPC will be participating in the Cincinnati location of Faith and Public Life’s campaign of “Bridges Not Walls”. February 17th marks the one year anniversary of Pope Francis’ visit to the US/Mexico border. When Pope Francis prayed for migrants and refugees at the border he transformed a dusty fence into an oasis of hope. Now just days into the new administration\, immigrant and refugee families are now at greater risk than ever.  As people of faith\, we must respond with one voice: “Build bridges\, not walls.” Together our voices can echo through the halls of Congress. Join us on the 17th OUTSIDE of Senator Portman’s office for a peaceful demonstration.
URL:https://ignitepeace.org/event/bridges-not-walls/
LOCATION:Senator Portman’s Cincinnati Office\, 312 Walnut St\, Cincinnati\, Ohio 45202\, OH\, 45202\, United States
CATEGORIES:Immigration
END:VEVENT
BEGIN:VEVENT
DTSTART;TZID=America/New_York:20170126T180000
DTEND;TZID=America/New_York:20170126T200000
DTSTAMP:20260418T123620
CREATED:20161116T144055Z
LAST-MODIFIED:20170201T162351Z
UID:10000595-1485453600-1485460800@ignitepeace.org
SUMMARY:YES January Meeting
DESCRIPTION:Join Y.E.S. (Youth Educating Society) to educate yourself and others about and advocate for comprehensive immigration reform.
URL:https://ignitepeace.org/event/yes-january-meeting/
LOCATION:IJPC\, 215 E 14th Street\, Cincinnati\, OH\, 45202\, United States
CATEGORIES:Immigration
ATTACH;FMTTYPE=image/jpeg:https://ignitepeace.org/wp-content/uploads/2015/08/YES-1-e1521054791365.jpg
END:VEVENT
BEGIN:VEVENT
DTSTART;TZID=America/New_York:20170108T150000
DTEND;TZID=America/New_York:20170108T163000
DTSTAMP:20260418T123620
CREATED:20161222T162457Z
LAST-MODIFIED:20180402T195855Z
UID:10000601-1483887600-1483893000@ignitepeace.org
SUMMARY:Coalition for Immigrant Dignity / Coalición Local Para la Dignidad de los Inmigrantes
DESCRIPTION:(abajo en español ) \n(prospectus en Français au dessous de) \nWHO: Individuals – Immigrants and Allies\, Immigrant Serving and Immigrant Advocacy Organizations. More than 30 organizations were represented at the last meeting. Your confirmation is requested. Confirm via Google Form. \nWHAT: Broad gathering of immigrants and allies to determine the direction of a Coalition for Immigrant Dignity in Cincinnati. \nWHERE: Peoples Church: 220 William Howard Taft Rd\, Cincinnati\, OH 45219. \nWHEN: Sunday 1/8/17\, 3:00-4:30pm. \nWHY: Building on local accomplishments in advancing dignity and respect for immigrant families and preparing for coming challenges. Identify community members ready to lead the coalition. Specific topics to review may include: Community responses to unjust deportation; Education – ie: Know Your Rights Trainings; Policy Advocacy and Civic Engagement. To participate in shaping the program contact: allison@ijpccincinnati.org. \n— \nQUIENES: Individuos – Inmigrantes y Aliados\, Organizaciones que Sirven y Defenden al Inmigrante.  Mas de 30 organizaciones estuvieron representadas en la ultima reunion. Requerimos su confirmación. Confirme por esta forma. \nQUE: Amplia coalición de inmigrantes y aliados para determinar la dirección de una Coalición para la Dignidad del Inmigrante en Cincinnati. \nDONDE: Peoples Church: 220 William Howard Taft Rd\, Cincinnati\, OH 45219. \nCUANDO: Domingo 8 de enero de 2017\, 3:00-4:30 PM. \nPOR QUE: Construir sobre los logros locales en el avance de la dignidad y el respeto para las familias de inmigrantes\, y prepararnos para los retos futuros.  Identificar miembros de la comunidad preparados para liderar la coalición. Temas específicos para conversar incluyen: Respuestas de la comunidad a las deportaciones injustas; Educación – es decir: Entrenamiento de Conozca sus Derechos; Defensa publica y Compromiso Cívico. Para participar en el contenido del programa contacte a: allison@ijpccincinnati.org \n  \n 
URL:https://ignitepeace.org/event/greater-cincinnati-immigration-coalition-meeting/
LOCATION:People’s Church\, 220 William Howard Taft Road\, Cincinnati\, OH\, 45219\, United States
CATEGORIES:Immigration
END:VEVENT
BEGIN:VEVENT
DTSTART;TZID=America/New_York:20160918T153000
DTEND;TZID=America/New_York:20160918T170000
DTSTAMP:20260418T123620
CREATED:20160908T160815Z
LAST-MODIFIED:20180402T193115Z
UID:10000591-1474212600-1474218000@ignitepeace.org
SUMMARY:Journeying Together: Juntos Caminando - Immigration Rally
DESCRIPTION:Join people of faith\, community members\, leaders\, friends and neighbors in an immigration rally and march in Norther Kentucky for comprehensive and compassionate immigration reform. \nFor additional information contact Sr. Dorothy Schuette (dorothyosb@gmail.com) or Jose Cabrera (jose@IJPCcincinnati.org)
URL:https://ignitepeace.org/event/journeying-together-juntos-caminando-immigration-rally/
LOCATION:Holy Trinity Junior High Parking Lot\, 840 Washington St\, Newport\, KY\, 41071\, United States
CATEGORIES:Immigration,Northern Kentucky
END:VEVENT
BEGIN:VEVENT
DTSTART;TZID=America/New_York:20160726T093000
DTEND;TZID=America/New_York:20160726T103000
DTSTAMP:20260418T123620
CREATED:20160512T174956Z
LAST-MODIFIED:20160512T174956Z
UID:10000661-1469525400-1469529000@ignitepeace.org
SUMMARY:July Immigration Committee Meeting
DESCRIPTION:Come join the IJPC Immigration Committee to learn more about events planned and education in the Cincinnati area. Meetings are scheduled the 4th Tuesday of the month at 9:30 AM at IJPC.
URL:https://ignitepeace.org/event/july-immigration-committee-meeting/
LOCATION:IJPC\, 215 E 14th Street\, Cincinnati\, OH\, 45202\, United States
CATEGORIES:Immigration
ATTACH;FMTTYPE=image/png:https://ignitepeace.org/wp-content/uploads/2015/09/fav.png
END:VEVENT
BEGIN:VEVENT
DTSTART;TZID=America/New_York:20160628T093000
DTEND;TZID=America/New_York:20160628T103000
DTSTAMP:20260418T123620
CREATED:20160512T174813Z
LAST-MODIFIED:20160512T174813Z
UID:10000660-1467106200-1467109800@ignitepeace.org
SUMMARY:June Immigration Committee Meeting
DESCRIPTION:Come join the IJPC Immigration Committee to learn more about events planned and education in the Cincinnati area. Meetings are scheduled the 4th Tuesday of the month at 9:30 AM at IJPC.
URL:https://ignitepeace.org/event/june-immigration-committee-meeting/
LOCATION:IJPC\, 215 E 14th Street\, Cincinnati\, OH\, 45202\, United States
CATEGORIES:Immigration
ATTACH;FMTTYPE=image/png:https://ignitepeace.org/wp-content/uploads/2015/09/fav.png
END:VEVENT
BEGIN:VEVENT
DTSTART;TZID=America/New_York:20160524T093000
DTEND;TZID=America/New_York:20160524T103000
DTSTAMP:20260418T123620
CREATED:20160512T174634Z
LAST-MODIFIED:20160512T174634Z
UID:10000659-1464082200-1464085800@ignitepeace.org
SUMMARY:May Immigration Committee Meeting
DESCRIPTION:Come join the IJPC Immigration Committee to learn more about events planned and education in the Cincinnati area. Meetings are scheduled the 4th Tuesday of the month at 9:30 AM at IJPC.
URL:https://ignitepeace.org/event/may-immigration-committee-meeting/
LOCATION:IJPC\, 215 E 14th Street\, Cincinnati\, OH\, 45202\, United States
CATEGORIES:Immigration
ATTACH;FMTTYPE=image/png:https://ignitepeace.org/wp-content/uploads/2015/09/fav.png
END:VEVENT
BEGIN:VEVENT
DTSTART;TZID=America/New_York:20160312T130000
DTEND;TZID=America/New_York:20160312T150000
DTSTAMP:20260418T123620
CREATED:20160222T200800Z
LAST-MODIFIED:20180402T175755Z
UID:10000636-1457787600-1457794800@ignitepeace.org
SUMMARY:Rally for Hope: Stop Separating Families
DESCRIPTION:Nationwide\, the Department of Homeland Security (DHS) has been conducting target enforcement actions\, focusing on immigrant women and children who have arrived from Central America in the last two years. With the presence of Immigration and Customs Enforcement (ICE) in Price Hill in early February\, fear continues to plague the local immigrant community\, many afraid to leave their homes for work or school. Cities across the nation including Chicago\, Minneapolis\, and Raleigh have held public protest and vigils in opposition to these enforcement tactics asking DHS to stop separating families. Local community members and organizations\, including the Archdiocese of Cincinnati\, Catholic Charities of Southwestern Ohio\, Cincinnati Interfaith Workers Center\, ELL Foundation\, Holy Family Church\, Intercommunity Justice and Peace Center\, LULAC\, and NKU Latino Institute for Excellence have come together to plan a Rally for Hope with a message to “Stop Separating Families” for Saturday March 12\, 2016\, from 1:00-3:00pm to show support for the immigrant community. \n  \nWith this intention\, all are invited to join in a rally and two mile walk beginning at Holy Family Church in Price Hill and walking down Grand to Warsaw\, continuing to Kroger and through the Price Hill Community. Showing support for the immigrant community in this public way allows those in fear to know they are not alone and there are many who stand on the side of our immigrant neighbors. Those interested in participating are asked to meet in the parking lot of Holy Family behind the church.
URL:https://ignitepeace.org/event/rally-for-hope-stop-separating-families/
LOCATION:Holy Family Church\, 3006 W. 8th Street\, Cincinnati\, OH\, 45205\, United States
CATEGORIES:Immigration
END:VEVENT
END:VCALENDAR