BEGIN:VCALENDAR
VERSION:2.0
PRODID:-//Ignite Peace - ECPv6.15.20//NONSGML v1.0//EN
CALSCALE:GREGORIAN
METHOD:PUBLISH
X-ORIGINAL-URL:https://ignitepeace.org
X-WR-CALDESC:Events for Ignite Peace
REFRESH-INTERVAL;VALUE=DURATION:PT1H
X-Robots-Tag:noindex
X-PUBLISHED-TTL:PT1H
BEGIN:VTIMEZONE
TZID:America/New_York
BEGIN:DAYLIGHT
TZOFFSETFROM:-0500
TZOFFSETTO:-0400
TZNAME:EDT
DTSTART:20250309T070000
END:DAYLIGHT
BEGIN:STANDARD
TZOFFSETFROM:-0400
TZOFFSETTO:-0500
TZNAME:EST
DTSTART:20251102T060000
END:STANDARD
BEGIN:DAYLIGHT
TZOFFSETFROM:-0500
TZOFFSETTO:-0400
TZNAME:EDT
DTSTART:20260308T070000
END:DAYLIGHT
BEGIN:STANDARD
TZOFFSETFROM:-0400
TZOFFSETTO:-0500
TZNAME:EST
DTSTART:20261101T060000
END:STANDARD
BEGIN:DAYLIGHT
TZOFFSETFROM:-0500
TZOFFSETTO:-0400
TZNAME:EDT
DTSTART:20270314T070000
END:DAYLIGHT
BEGIN:STANDARD
TZOFFSETFROM:-0400
TZOFFSETTO:-0500
TZNAME:EST
DTSTART:20271107T060000
END:STANDARD
END:VTIMEZONE
BEGIN:VEVENT
DTSTART;TZID=America/New_York:20260422T183000
DTEND;TZID=America/New_York:20260422T200000
DTSTAMP:20260418T122950
CREATED:20260306T201859Z
LAST-MODIFIED:20260306T201859Z
UID:10001293-1776882600-1776888000@ignitepeace.org
SUMMARY:Immigrant Dignity Coalition
DESCRIPTION:This meeting will take place in-person ONLY this month at Mt. Auburn Presbyterian Church. Contact samantha@IgnitePeace.org for directions. \nThose needing interpretation from English to Spanish or French must confirm their attendance by texting/calling 513-400-5963 or emailing samantha@IgnitePeace.org. \n  \n 
URL:https://ignitepeace.org/event/immigrant-dignity-coalition-23/
CATEGORIES:Immigration
ATTACH;FMTTYPE=image/jpeg:https://ignitepeace.org/wp-content/uploads/2026/03/Mar-2026.jpg
END:VEVENT
BEGIN:VEVENT
DTSTART;TZID=America/New_York:20260527T183000
DTEND;TZID=America/New_York:20260527T200000
DTSTAMP:20260418T122950
CREATED:20260306T201941Z
LAST-MODIFIED:20260306T201941Z
UID:10001294-1779906600-1779912000@ignitepeace.org
SUMMARY:Immigrant Dignity Coalition
DESCRIPTION:This meeting will take place at Mt. Auburn Presbyterian Church and virtually via Zoom. Contact samantha@IgnitePeace.org for directions. \nIf there is an active Level 2 or above Snow Emergency in Hamilton County by 5:00PM the day of the meeting\, the meeting will be virtual-only. \nFor those of you who cannot attend the meeting in person\, you can still join us on Zoom! Mt. Auburn is providing the latest technology to connect groups so it doesn’t matter where you’re located- you’ll still be “in the room.” \nZoom Registration Available Soon (please register by 5:30PM the day of the meeting). \nThose needing interpretation from English to Spanish or French must confirm their attendance by texting/calling 513-400-5963 or emailing samantha@IgnitePeace.org. \n  \n 
URL:https://ignitepeace.org/event/immigrant-dignity-coalition-24/
CATEGORIES:Immigration
ATTACH;FMTTYPE=image/jpeg:https://ignitepeace.org/wp-content/uploads/2026/03/Mar-2026-2.jpg
END:VEVENT
BEGIN:VEVENT
DTSTART;TZID=America/New_York:20260625T183000
DTEND;TZID=America/New_York:20260625T200000
DTSTAMP:20260418T122950
CREATED:20260306T202025Z
LAST-MODIFIED:20260306T202025Z
UID:10001295-1782412200-1782417600@ignitepeace.org
SUMMARY:Immigrant Dignity Coalition
DESCRIPTION:This meeting will take place at Mt. Auburn Presbyterian Church and virtually via Zoom. Contact samantha@IgnitePeace.org for directions. \nIf there is an active Level 2 or above Snow Emergency in Hamilton County by 5:00PM the day of the meeting\, the meeting will be virtual-only. \nFor those of you who cannot attend the meeting in person\, you can still join us on Zoom! Mt. Auburn is providing the latest technology to connect groups so it doesn’t matter where you’re located- you’ll still be “in the room.” \nZoom Registration Available Soon (please register by 5:30PM the day of the meeting). \nThose needing interpretation from English to Spanish or French must confirm their attendance by texting/calling 513-400-5963 or emailing samantha@IgnitePeace.org. \n  \n 
URL:https://ignitepeace.org/event/immigrant-dignity-coalition-25/
CATEGORIES:Immigration
ATTACH;FMTTYPE=image/jpeg:https://ignitepeace.org/wp-content/uploads/2026/03/Mar-2026-3.jpg
END:VEVENT
END:VCALENDAR