BEGIN:VCALENDAR
VERSION:2.0
PRODID:-//Ignite Peace - ECPv6.15.20//NONSGML v1.0//EN
CALSCALE:GREGORIAN
METHOD:PUBLISH
X-ORIGINAL-URL:https://ignitepeace.org
X-WR-CALDESC:Events for Ignite Peace
REFRESH-INTERVAL;VALUE=DURATION:PT1H
X-Robots-Tag:noindex
X-PUBLISHED-TTL:PT1H
BEGIN:VTIMEZONE
TZID:America/New_York
BEGIN:DAYLIGHT
TZOFFSETFROM:-0500
TZOFFSETTO:-0400
TZNAME:EDT
DTSTART:20210314T070000
END:DAYLIGHT
BEGIN:STANDARD
TZOFFSETFROM:-0400
TZOFFSETTO:-0500
TZNAME:EST
DTSTART:20211107T060000
END:STANDARD
BEGIN:DAYLIGHT
TZOFFSETFROM:-0500
TZOFFSETTO:-0400
TZNAME:EDT
DTSTART:20220313T070000
END:DAYLIGHT
BEGIN:STANDARD
TZOFFSETFROM:-0400
TZOFFSETTO:-0500
TZNAME:EST
DTSTART:20221106T060000
END:STANDARD
BEGIN:DAYLIGHT
TZOFFSETFROM:-0500
TZOFFSETTO:-0400
TZNAME:EDT
DTSTART:20230312T070000
END:DAYLIGHT
BEGIN:STANDARD
TZOFFSETFROM:-0400
TZOFFSETTO:-0500
TZNAME:EST
DTSTART:20231105T060000
END:STANDARD
END:VTIMEZONE
BEGIN:VEVENT
DTSTART;TZID=America/New_York:20220927T120000
DTEND;TZID=America/New_York:20220927T140000
DTSTAMP:20260418T123508
CREATED:20220718T162936Z
LAST-MODIFIED:20220718T163002Z
UID:10001104-1664280000-1664287200@ignitepeace.org
SUMMARY:#NoDeathPenaltyOH Virtual Training: Social Media Organizing
DESCRIPTION:It’s 2022 and not much is done without using social media. Join us to learn how to use social media platforms like Facebook and Instagram to further your efforts to end the death penalty. You’ll hear from our communications gurus in this campaign. You won’t want to miss this. \nRegister for noon Zoom training session
URL:https://ignitepeace.org/event/social-media-organizing-1/
CATEGORIES:death penalty
ATTACH;FMTTYPE=image/png:https://ignitepeace.org/wp-content/uploads/2021/06/image-2-e1623350884308.png
END:VEVENT
BEGIN:VEVENT
DTSTART;TZID=America/New_York:20220921T190000
DTEND;TZID=America/New_York:20220921T200000
DTSTAMP:20260418T123508
CREATED:20220829T143935Z
LAST-MODIFIED:20220829T143935Z
UID:10001118-1663786800-1663790400@ignitepeace.org
SUMMARY:#NoDeathPenaltyOH Southern Ohio Organizing Meeting
DESCRIPTION:If you would like to learn more and be part of the growing movement to abolish the death penalty\, join the Southern Ohio Organizing Team meetings. There we discuss campaign updates and next actions. \nMeetings every other Wednesday. \nZoom Link \nFor more information\, reach out to Bekky at Bekky@IJPCcincinnati.org
URL:https://ignitepeace.org/event/nodeathpenaltyoh-southern-ohio-organizing-meeting-19/
CATEGORIES:death penalty
ATTACH;FMTTYPE=image/png:https://ignitepeace.org/wp-content/uploads/2021/06/image-2-e1623350884308.png
END:VEVENT
BEGIN:VEVENT
DTSTART;TZID=America/New_York:20220919T190000
DTEND;TZID=America/New_York:20220919T210000
DTSTAMP:20260418T123508
CREATED:20220815T192853Z
LAST-MODIFIED:20220815T192853Z
UID:10001111-1663614000-1663621200@ignitepeace.org
SUMMARY:In The Executioner's Shadow
DESCRIPTION:In partnership with Civic Engagement at Wise Temple\, IJPC is hosting the film screening of In The Executioner’s Shadow. This short film explores how two families and one executioner grapple with justice and the death penalty. There will be a Q&A session with one of the film producers. \nRegister here.
URL:https://ignitepeace.org/event/in-the-executioners-shadow/
LOCATION:Wise Center\, 8329 Ridge Rd\, Cincinnati\, OH\, 45236
CATEGORIES:death penalty
ATTACH;FMTTYPE=image/jpeg:https://ignitepeace.org/wp-content/uploads/2022/08/pasted-image-0.jpg
END:VEVENT
BEGIN:VEVENT
DTSTART;TZID=America/New_York:20220908T190000
DTEND;TZID=America/New_York:20220908T200000
DTSTAMP:20260418T123508
CREATED:20220901T132516Z
LAST-MODIFIED:20220901T132516Z
UID:10001124-1662663600-1662667200@ignitepeace.org
SUMMARY:#NoDeathPenaltyOH Southern Ohio Organizing Meeting
DESCRIPTION:If you would like to learn more and be part of the growing movement to abolish the death penalty\, join the Southern Ohio Organizing Team meetings. There we discuss campaign updates and next actions. \nMeetings every other Wednesday. \nZoom Link \nFor more information\, reach out to Bekky at Bekky@IJPCcincinnati.org
URL:https://ignitepeace.org/event/nodeathpenaltyoh-southern-ohio-organizing-meeting-23/
CATEGORIES:death penalty
ATTACH;FMTTYPE=image/png:https://ignitepeace.org/wp-content/uploads/2021/06/image-2-e1623350884308.png
END:VEVENT
BEGIN:VEVENT
DTSTART;TZID=America/New_York:20220901T180000
DTEND;TZID=America/New_York:20220901T200000
DTSTAMP:20260418T123508
CREATED:20220812T135314Z
LAST-MODIFIED:20220812T135432Z
UID:10001109-1662055200-1662062400@ignitepeace.org
SUMMARY:Cheers to Abolition
DESCRIPTION:Raise a glass to ending the death penalty! Come hang out with IJPC staff to learn why the death penalty is the most egregious part of our criminal justice system and how you can join IJPC’s efforts to become an advocate for change. \nWest Side Brewing is generously donating 20% of drink sales to IJPC.
URL:https://ignitepeace.org/event/cheers-to-abolition/
LOCATION:West Side Brewing\, 3044 Harrison Ave\, Cincinnati\, OH\, 45211
CATEGORIES:death penalty
ATTACH;FMTTYPE=image/png:https://ignitepeace.org/wp-content/uploads/2022/08/WSB-Death-Penalty-Event.png
END:VEVENT
BEGIN:VEVENT
DTSTART;TZID=America/New_York:20220823T180000
DTEND;TZID=America/New_York:20220823T200000
DTSTAMP:20260418T123508
CREATED:20220718T162731Z
LAST-MODIFIED:20220718T162731Z
UID:10001103-1661277600-1661284800@ignitepeace.org
SUMMARY:#NoDeathPenaltyOH Virtual Training: Planning an Event in Your Community
DESCRIPTION:Take the next step in advocacy and organize an event. This training will give you the tools you need to table out in the community\, bring people together to take action\, organize an educational event\, and more. \nRegister for 6pm Zoom training session
URL:https://ignitepeace.org/event/nodeathpenaltyoh-virtual-training-planning-an-event-in-your-community-2/
CATEGORIES:death penalty
ATTACH;FMTTYPE=image/png:https://ignitepeace.org/wp-content/uploads/2021/06/image-2-e1623350884308.png
END:VEVENT
BEGIN:VEVENT
DTSTART;TZID=America/New_York:20220823T120000
DTEND;TZID=America/New_York:20220823T140000
DTSTAMP:20260418T123508
CREATED:20220718T162631Z
LAST-MODIFIED:20220718T162631Z
UID:10001102-1661256000-1661263200@ignitepeace.org
SUMMARY:#NoDeathPenaltyOH Virtual Training: Planning an Event in Your Community
DESCRIPTION:Take the next step in advocacy and organize an event. This training will give you the tools you need to table out in the community\, bring people together to take action\, organize an educational event\, and more. \nRegister for noon Zoom training session
URL:https://ignitepeace.org/event/nodeathpenaltyoh-virtual-training-planning-an-event-in-your-community/
CATEGORIES:death penalty
ATTACH;FMTTYPE=image/png:https://ignitepeace.org/wp-content/uploads/2021/06/image-2-e1623350884308.png
END:VEVENT
BEGIN:VEVENT
DTSTART;TZID=America/New_York:20220810T190000
DTEND;TZID=America/New_York:20220810T200000
DTSTAMP:20260418T123508
CREATED:20220720T161233Z
LAST-MODIFIED:20220720T161233Z
UID:10001106-1660158000-1660161600@ignitepeace.org
SUMMARY:#NoDeathPenaltyOH Southern Ohio Organizing Meeting
DESCRIPTION:If you would like to learn more and be part of the growing movement to abolish the death penalty\, join the Southern Ohio Organizing Team meetings. There we discuss campaign updates and next actions. \nMeetings every other Wednesday. \nZoom Link \nFor more information\, reach out to Bekky at Bekky@IJPCcincinnati.org
URL:https://ignitepeace.org/event/nodeathpenaltyoh-southern-ohio-organizing-meeting-18/
CATEGORIES:death penalty
ATTACH;FMTTYPE=image/png:https://ignitepeace.org/wp-content/uploads/2021/06/image-2-e1623350884308.png
END:VEVENT
BEGIN:VEVENT
DTSTART;TZID=America/New_York:20220727T190000
DTEND;TZID=America/New_York:20220727T200000
DTSTAMP:20260418T123508
CREATED:20220720T161159Z
LAST-MODIFIED:20220720T161159Z
UID:10001105-1658948400-1658952000@ignitepeace.org
SUMMARY:#NoDeathPenaltyOH Southern Ohio Organizing Meeting
DESCRIPTION:If you would like to learn more and be part of the growing movement to abolish the death penalty\, join the Southern Ohio Organizing Team meetings. There we discuss campaign updates and next actions. \nMeetings every other Wednesday. \nZoom Link \nFor more information\, reach out to Bekky at Bekky@IJPCcincinnati.org
URL:https://ignitepeace.org/event/nodeathpenaltyoh-southern-ohio-organizing-meeting-17/
CATEGORIES:death penalty
ATTACH;FMTTYPE=image/png:https://ignitepeace.org/wp-content/uploads/2021/06/image-2-e1623350884308.png
END:VEVENT
BEGIN:VEVENT
DTSTART;TZID=America/New_York:20220726T180000
DTEND;TZID=America/New_York:20220726T200000
DTSTAMP:20260418T123508
CREATED:20220718T162426Z
LAST-MODIFIED:20220718T162426Z
UID:10001100-1658858400-1658865600@ignitepeace.org
SUMMARY:#NoDeathPenaltyOH Virtual Training: Power and One-to-Ones
DESCRIPTION:Join us to learn about the power we have when we work together and one of the most effective ways to build that power. One on ones are essential to the strength of any organizing campaign. \nRegister for 6pm Zoom training session \n 
URL:https://ignitepeace.org/event/nodeathpenaltyoh-virtual-training-power-and-one-to-ones-2/
CATEGORIES:death penalty
ATTACH;FMTTYPE=image/png:https://ignitepeace.org/wp-content/uploads/2021/06/image-2-e1623350884308.png
END:VEVENT
BEGIN:VEVENT
DTSTART;TZID=America/New_York:20220726T120000
DTEND;TZID=America/New_York:20220726T140000
DTSTAMP:20260418T123508
CREATED:20220718T162320Z
LAST-MODIFIED:20220718T162452Z
UID:10001101-1658836800-1658844000@ignitepeace.org
SUMMARY:#NoDeathPenaltyOH Virtual Training: Power and One-to-Ones
DESCRIPTION:Join us to learn about the power we have when we work together and one of the most effective ways to build that power. One on ones are essential to the strength of any organizing campaign. \nRegister for noon Zoom training session \n 
URL:https://ignitepeace.org/event/nodeathpenaltyoh-virtual-training-power-and-one-to-ones/
CATEGORIES:death penalty
ATTACH;FMTTYPE=image/png:https://ignitepeace.org/wp-content/uploads/2021/06/image-2-e1623350884308.png
END:VEVENT
BEGIN:VEVENT
DTSTART;TZID=America/New_York:20220718T120000
DTEND;TZID=America/New_York:20220718T130000
DTSTAMP:20260418T123508
CREATED:20220707T161908Z
LAST-MODIFIED:20220707T170534Z
UID:10001099-1658145600-1658149200@ignitepeace.org
SUMMARY:Day of Hope 2022
DESCRIPTION:July 18th\, 2022 marks four years since Ohio’s last execution. This year\, IJPC will be demonstrating in Fountain Square to state our hope that the death penalty will be abolished in Ohio. We will be set up with signs\, a photobooth\, and information to hand out to people. \n  \nFeel free to stop by to take your picture and share your hope for the end of Ohio’s death penalty  from 12pm – 1pm. \n  \nCan’t Make It?  \nJoin us by posting on social media. Finish the sentence: I hope Ohio ends the death penalty because… and share a photo or video on social media. Be sure to tag #NoDeathPenaltyOH and #DayofHope2022 \n  \nQuestions? Email Bekky@IJPCcincinnati.org
URL:https://ignitepeace.org/event/day-of-hope-2022/
LOCATION:Fountain Square\, 520 Vine Street\, Cincinnati\, OH\, 45202\, United States
CATEGORIES:death penalty
ATTACH;FMTTYPE=image/png:https://ignitepeace.org/wp-content/uploads/2022/07/pasted-image-0-e1657210737255.png
END:VEVENT
BEGIN:VEVENT
DTSTART;TZID=America/New_York:20220615T190000
DTEND;TZID=America/New_York:20220615T200000
DTSTAMP:20260418T123508
CREATED:20220520T172951Z
LAST-MODIFIED:20220520T172951Z
UID:10001095-1655319600-1655323200@ignitepeace.org
SUMMARY:#NoDeathPenaltyOH Southern Ohio Organizing Meeting
DESCRIPTION:If you would like to learn more and be part of the growing movement to abolish the death penalty\, join the Southern Ohio Organizing Team meetings. There we discuss campaign updates and next actions. \nMeetings every other Wednesday. \nZoom Link \nFor more information\, reach out to Bekky at Bekky@IJPCcincinnati.org
URL:https://ignitepeace.org/event/nodeathpenaltyoh-southern-ohio-organizing-meeting-16/
CATEGORIES:death penalty
ATTACH;FMTTYPE=image/png:https://ignitepeace.org/wp-content/uploads/2021/06/image-2-e1623350884308.png
END:VEVENT
BEGIN:VEVENT
DTSTART;TZID=America/New_York:20220601T190000
DTEND;TZID=America/New_York:20220601T200000
DTSTAMP:20260418T123508
CREATED:20220520T172923Z
LAST-MODIFIED:20220520T172923Z
UID:10001094-1654110000-1654113600@ignitepeace.org
SUMMARY:#NoDeathPenaltyOH Southern Ohio Organizing Meeting
DESCRIPTION:If you would like to learn more and be part of the growing movement to abolish the death penalty\, join the Southern Ohio Organizing Team meetings. There we discuss campaign updates and next actions. \nMeetings every other Wednesday. \nZoom Link \nFor more information\, reach out to Bekky at Bekky@IJPCcincinnati.org
URL:https://ignitepeace.org/event/nodeathpenaltyoh-southern-ohio-organizing-meeting-15/
CATEGORIES:death penalty
ATTACH;FMTTYPE=image/png:https://ignitepeace.org/wp-content/uploads/2021/06/image-2-e1623350884308.png
END:VEVENT
BEGIN:VEVENT
DTSTART;TZID=America/New_York:20220526T180000
DTEND;TZID=America/New_York:20220526T190000
DTSTAMP:20260418T123508
CREATED:20220506T190154Z
LAST-MODIFIED:20220506T190154Z
UID:10001092-1653588000-1653591600@ignitepeace.org
SUMMARY:Weekly Anti-Death Penalty Phonebanking
DESCRIPTION:Join IJPC and the NoDeathPenaltyOH coalition for weekly phonebanking to end the death penalty. \nEvery Thursday from 6:00 – 7:00 pm. \nJoin via Zoom. \nWe are calling death penalty abolition supporters asking them to take action to contact their legislators. New volunteers will receive a brief training and if you are a returning volunteer you can jump right into calls. \nEmail Bekky for questions or concerns at bekky@IJPCcincinnati.org.
URL:https://ignitepeace.org/event/weekly-anti-death-penalty-phonebanking-5/
CATEGORIES:death penalty
ATTACH;FMTTYPE=image/png:https://ignitepeace.org/wp-content/uploads/2021/06/image-2-e1623350884308.png
END:VEVENT
BEGIN:VEVENT
DTSTART;TZID=America/New_York:20220519T180000
DTEND;TZID=America/New_York:20220519T190000
DTSTAMP:20260418T123508
CREATED:20220506T190109Z
LAST-MODIFIED:20220506T190125Z
UID:10001091-1652983200-1652986800@ignitepeace.org
SUMMARY:Weekly Anti-Death Penalty Phonebanking
DESCRIPTION:Join IJPC and the NoDeathPenaltyOH coalition for weekly phonebanking to end the death penalty. \nEvery Thursday from 6:00 – 7:00 pm. \nJoin via Zoom. \nWe are calling death penalty abolition supporters asking them to take action to contact their legislators. New volunteers will receive a brief training and if you are a returning volunteer you can jump right into calls. \nEmail Bekky for questions or concerns at bekky@IJPCcincinnati.org.
URL:https://ignitepeace.org/event/weekly-anti-death-penalty-phonebanking-4/
CATEGORIES:death penalty
ATTACH;FMTTYPE=image/png:https://ignitepeace.org/wp-content/uploads/2021/06/image-2-e1623350884308.png
END:VEVENT
BEGIN:VEVENT
DTSTART;TZID=America/New_York:20220518T190000
DTEND;TZID=America/New_York:20220518T200000
DTSTAMP:20260418T123508
CREATED:20220506T190325Z
LAST-MODIFIED:20220506T190325Z
UID:10001093-1652900400-1652904000@ignitepeace.org
SUMMARY:#NoDeathPenaltyOH Southern Ohio Organizing Meeting
DESCRIPTION:If you would like to learn more and be part of the growing movement to abolish the death penalty\, join the Southern Ohio Organizing Team meetings. There we discuss campaign updates and next actions. \nMeetings every other Wednesday. \nZoom Link \nFor more information\, reach out to Bekky at Bekky@IJPCcincinnati.org
URL:https://ignitepeace.org/event/nodeathpenaltyoh-southern-ohio-organizing-meeting-14/
CATEGORIES:death penalty
ATTACH;FMTTYPE=image/png:https://ignitepeace.org/wp-content/uploads/2021/06/image-2-e1623350884308.png
END:VEVENT
BEGIN:VEVENT
DTSTART;TZID=America/New_York:20220512T180000
DTEND;TZID=America/New_York:20220512T190000
DTSTAMP:20260418T123508
CREATED:20220422T171848Z
LAST-MODIFIED:20220422T171848Z
UID:10001087-1652378400-1652382000@ignitepeace.org
SUMMARY:Weekly Anti-Death Penalty Phonebanking
DESCRIPTION:Join IJPC and the NoDeathPenaltyOH coalition for weekly phonebanking to end the death penalty. \nEvery Thursday from 6:00 – 7:00 pm. \nJoin via Zoom. \nWe are calling death penalty abolition supporters asking them to take action to contact their legislators. New volunteers will receive a brief training and if you are a returning volunteer you can jump right into calls. \nEmail Bekky for questions or concerns at bekky@IJPCcincinnati.org.
URL:https://ignitepeace.org/event/weekly-anti-death-penalty-phonebanking-3/
CATEGORIES:death penalty
ATTACH;FMTTYPE=image/png:https://ignitepeace.org/wp-content/uploads/2021/06/image-2-e1623350884308.png
END:VEVENT
BEGIN:VEVENT
DTSTART;TZID=America/New_York:20220505T180000
DTEND;TZID=America/New_York:20220505T190000
DTSTAMP:20260418T123508
CREATED:20220422T171829Z
LAST-MODIFIED:20220422T171829Z
UID:10001086-1651773600-1651777200@ignitepeace.org
SUMMARY:Weekly Anti-Death Penalty Phonebanking
DESCRIPTION:Join IJPC and the NoDeathPenaltyOH coalition for weekly phonebanking to end the death penalty. \nEvery Thursday from 6:00 – 7:00 pm. \nJoin via Zoom. \nWe are calling death penalty abolition supporters asking them to take action to contact their legislators. New volunteers will receive a brief training and if you are a returning volunteer you can jump right into calls. \nEmail Bekky for questions or concerns at bekky@IJPCcincinnati.org.
URL:https://ignitepeace.org/event/weekly-anti-death-penalty-phonebanking-2/
CATEGORIES:death penalty
ATTACH;FMTTYPE=image/png:https://ignitepeace.org/wp-content/uploads/2021/06/image-2-e1623350884308.png
END:VEVENT
BEGIN:VEVENT
DTSTART;TZID=America/New_York:20220428T180000
DTEND;TZID=America/New_York:20220428T190000
DTSTAMP:20260418T123508
CREATED:20220422T171250Z
LAST-MODIFIED:20220422T171502Z
UID:10001085-1651168800-1651172400@ignitepeace.org
SUMMARY:Weekly Anti-Death Penalty Phonebanking
DESCRIPTION:Join IJPC and the NoDeathPenaltyOH coalition for weekly phonebanking to end the death penalty. \nEvery Thursday from 6:00 – 7:00 pm. \nJoin via Zoom. \nWe are calling death penalty abolition supporters asking them to take action to contact their legislators. New volunteers will receive a brief training and if you are a returning volunteer you can jump right into calls. \nEmail Bekky for questions or concerns at bekky@IJPCcincinnati.org.
URL:https://ignitepeace.org/event/weekly-anti-death-penalty-phonebanking/
CATEGORIES:death penalty
ATTACH;FMTTYPE=image/png:https://ignitepeace.org/wp-content/uploads/2021/06/image-2-e1623350884308.png
END:VEVENT
BEGIN:VEVENT
DTSTART;TZID=America/New_York:20220426T110000
DTEND;TZID=America/New_York:20220426T123000
DTSTAMP:20260418T123508
CREATED:20220413T165617Z
LAST-MODIFIED:20220413T165935Z
UID:10001084-1650970800-1650976200@ignitepeace.org
SUMMARY:Anti-Death Penalty Clergy Symposium
DESCRIPTION:IJPC is excited to announce the Anti-Death Penalty Clergy Symposium. The symposium will convene faith leaders* across Ohio to explore texts\, hear from an interfaith panel\, and discuss what faith in action against the death penalty can look like. The interfaith panel will include the following speakers:  \n  \n\nBaha’i Faith\, Steve Vance\, Cincinnati\nCatholic Faith\, Deacon William Lambert of the Diocese of Youngstown\nDisciples of Christ\, Rev. Dr. Crystal Walker from Greater Dayton Christian Connections\nEpiscopal Church\, Rev. Melanie Slane from Episcopal Church of the Redeemer\, Cincinnati\nJewish Faith\, Religious Action Center of Judaism\n\n  \nAt the end of the symposium\, faith leaders will have a better understanding of how to engage in ending the death penalty in our state and how to discuss this topic with their faith communities.  \n  \n*The intended audience for the event is leaders of faith communities – ranging from ordained ministers\, individuals leading congregations\, chairs of committees\, and directors of faith affiliated offices. If you are not a faith leader\, please consider sharing this with the leader(s) in your own community. \n  \nRegister Here
URL:https://ignitepeace.org/event/anti-death-penalty-clergy-symposium/
CATEGORIES:death penalty
ATTACH;FMTTYPE=image/png:https://ignitepeace.org/wp-content/uploads/2022/04/Anti-Death-Penalty-Clergy-Symposium-Instagram-Post-e1649868956227.png
END:VEVENT
BEGIN:VEVENT
DTSTART;TZID=America/New_York:20220420T190000
DTEND;TZID=America/New_York:20220420T200000
DTSTAMP:20260418T123508
CREATED:20220216T182303Z
LAST-MODIFIED:20220301T201021Z
UID:10001077-1650481200-1650484800@ignitepeace.org
SUMMARY:#NoDeathPenaltyOH Southern Ohio Organizing Meeting
DESCRIPTION:If you would like to learn more and be part of the growing movement to abolish the death penalty\, join the Southern Ohio Organizing Team meetings. There we discuss campaign updates and next actions. \nMeetings every other Wednesday. \nZoom Link \nFor more information\, reach out to Bekky at Bekky@IJPCcincinnati.org
URL:https://ignitepeace.org/event/nodeathpenaltyoh-southern-ohio-organizing-meeting-13/
CATEGORIES:death penalty
ATTACH;FMTTYPE=image/png:https://ignitepeace.org/wp-content/uploads/2021/06/image-2-e1623350884308.png
END:VEVENT
BEGIN:VEVENT
DTSTART;TZID=America/New_York:20220406T190000
DTEND;TZID=America/New_York:20220406T200000
DTSTAMP:20260418T123508
CREATED:20220216T182242Z
LAST-MODIFIED:20220301T201005Z
UID:10001076-1649271600-1649275200@ignitepeace.org
SUMMARY:#NoDeathPenaltyOH Southern Ohio Organizing Meeting
DESCRIPTION:If you would like to learn more and be part of the growing movement to abolish the death penalty\, join the Southern Ohio Organizing Team meetings. There we discuss campaign updates and next actions. \nMeetings every other Wednesday. \nZoom Link \nFor more information\, reach out to Bekky at Bekky@IJPCcincinnati.org
URL:https://ignitepeace.org/event/nodeathpenaltyoh-southern-ohio-organizing-meeting-12/
CATEGORIES:death penalty
ATTACH;FMTTYPE=image/png:https://ignitepeace.org/wp-content/uploads/2021/06/image-2-e1623350884308.png
END:VEVENT
BEGIN:VEVENT
DTSTART;TZID=America/New_York:20220324T180000
DTEND;TZID=America/New_York:20220324T190000
DTSTAMP:20260418T123508
CREATED:20220318T191201Z
LAST-MODIFIED:20220318T191201Z
UID:10001083-1648144800-1648148400@ignitepeace.org
SUMMARY:Death Penalty Abolition Phonebanking
DESCRIPTION:Join the NoDeathPenaltyOH coalition to call supporters of ending the death penalty and ask them to contact their legislator! We will have a team of people there to lead you and you will be calling people sympathetic to the cause. \nVia Zoom – Register here. \nQuestions? Email Bekky@IJPCcincinnat.org
URL:https://ignitepeace.org/event/death-penalty-abolition-phonebanking/
CATEGORIES:death penalty
ATTACH;FMTTYPE=image/png:https://ignitepeace.org/wp-content/uploads/2021/06/image-2-e1623350884308.png
END:VEVENT
BEGIN:VEVENT
DTSTART;TZID=America/New_York:20220323T190000
DTEND;TZID=America/New_York:20220323T200000
DTSTAMP:20260418T123508
CREATED:20220216T182220Z
LAST-MODIFIED:20220316T191144Z
UID:10001075-1648062000-1648065600@ignitepeace.org
SUMMARY:#NoDeathPenaltyOH Southern Ohio Organizing Meeting
DESCRIPTION:If you would like to learn more and be part of the growing movement to abolish the death penalty\, join the Southern Ohio Organizing Team meetings. There we discuss campaign updates and next actions. \nMeetings every other Wednesday. \nZoom Link \nFor more information\, reach out to Bekky at Bekky@IJPCcincinnati.org
URL:https://ignitepeace.org/event/nodeathpenaltyoh-southern-ohio-organizing-meeting-11/
CATEGORIES:death penalty
ATTACH;FMTTYPE=image/png:https://ignitepeace.org/wp-content/uploads/2021/06/image-2-e1623350884308.png
END:VEVENT
BEGIN:VEVENT
DTSTART;TZID=America/New_York:20220309T190000
DTEND;TZID=America/New_York:20220309T200000
DTSTAMP:20260418T123508
CREATED:20220215T204109Z
LAST-MODIFIED:20220301T200903Z
UID:10001070-1646852400-1646856000@ignitepeace.org
SUMMARY:#NoDeathPenaltyOH Southern Ohio Organizing Meeting
DESCRIPTION:If you would like to learn more and be part of the growing movement to abolish the death penalty\, join the Southern Ohio Organizing Team meetings. There we discuss campaign updates and next actions. \nMeetings every other Wednesday. \nZoom Link \nFor more information\, reach out to Bekky at Bekky@IJPCcincinnati.org
URL:https://ignitepeace.org/event/nodeathpenaltyoh-southern-ohio-organizing-meeting-10/
CATEGORIES:death penalty
ATTACH;FMTTYPE=image/png:https://ignitepeace.org/wp-content/uploads/2021/06/image-2-e1623350884308.png
END:VEVENT
BEGIN:VEVENT
DTSTART;VALUE=DATE:20220301
DTEND;VALUE=DATE:20220401
DTSTAMP:20260418T123508
CREATED:20220308T152201Z
LAST-MODIFIED:20220308T152220Z
UID:10001081-1646092800-1648771199@ignitepeace.org
SUMMARY:College Campus Ant-Death Penalty Action Month
DESCRIPTION:March 2022 is Ohio’s No Death Penalty College Campus Action Month supported by the #NoDeathPenaltyOH coalition. Ohio has never been this close to abolishing our death penalty and we need everyone in Ohio to help the bills cross the finish line. Join college students and campus groups across the state to call for an end to Ohio’s death penalty by taking action during the month of March. \nYou\, your friends or your organization can take action by writing letters to legislators\, educating others on your campus about the issue\, hosting an advocacy training\, and more. \nFind more information and join us here. \nQuestions? Email Bekky@IJPCcincinnati.org.
URL:https://ignitepeace.org/event/college-campus-ant-death-penalty-action-month/
CATEGORIES:death penalty
ATTACH;FMTTYPE=image/png:https://ignitepeace.org/wp-content/uploads/2022/03/College-Campus-Anti-Death-Penalty-Action-Month-March-2022.png
END:VEVENT
BEGIN:VEVENT
DTSTART;TZID=America/New_York:20220223T190000
DTEND;TZID=America/New_York:20220223T200000
DTSTAMP:20260418T123508
CREATED:20220215T204044Z
LAST-MODIFIED:20220215T204044Z
UID:10001069-1645642800-1645646400@ignitepeace.org
SUMMARY:#NoDeathPenaltyOH Southern Ohio Organizing Meeting
DESCRIPTION:If you would like to learn more and be part of the growing movement to abolish the death penalty\, join the Southern Ohio Organizing Team meetings. There we discuss campaign updates and next actions. \nMeetings every other Wednesday. \nZoom Link \nFor more information\, reach out to Bekky at Bekky@IJPCcincinnati.org
URL:https://ignitepeace.org/event/nodeathpenaltyoh-southern-ohio-organizing-meeting-9/
CATEGORIES:death penalty
ATTACH;FMTTYPE=image/png:https://ignitepeace.org/wp-content/uploads/2021/06/image-2-e1623350884308.png
END:VEVENT
BEGIN:VEVENT
DTSTART;TZID=America/New_York:20220222T180000
DTEND;TZID=America/New_York:20220222T190000
DTSTAMP:20260418T123508
CREATED:20220203T181927Z
LAST-MODIFIED:20220210T204238Z
UID:10001065-1645552800-1645556400@ignitepeace.org
SUMMARY:No Death Penalty Ohio - Statewide Grassroots Gathering
DESCRIPTION:Join anti-death penalty activists across the state to engage in the NoDeathPenaltyOH campaign\, learn how to get involved and be part of planning for the year 2022. \nVia Zoom – Register Here. \nQuestions? Email Bekky@IJPCcincinnati.org.
URL:https://ignitepeace.org/event/no-death-penalty-ohio-statewide-grassroots-gathering/
CATEGORIES:death penalty
ATTACH;FMTTYPE=image/png:https://ignitepeace.org/wp-content/uploads/2021/06/image-2-e1623350884308.png
END:VEVENT
BEGIN:VEVENT
DTSTART;TZID=America/New_York:20220209T190000
DTEND;TZID=America/New_York:20220209T200000
DTSTAMP:20260418T123508
CREATED:20220203T182131Z
LAST-MODIFIED:20220203T182131Z
UID:10001066-1644433200-1644436800@ignitepeace.org
SUMMARY:#NoDeathPenaltyOH Southern Ohio Organizing Meeting
DESCRIPTION:If you would like to learn more and be part of the growing movement to abolish the death penalty\, join the Southern Ohio Organizing Team meetings. There we discuss campaign updates and next actions. \nMeetings every other Wednesday. \nZoom Link \nFor more information\, reach out to Bekky at Bekky@IJPCcincinnati.org
URL:https://ignitepeace.org/event/nodeathpenaltyoh-southern-ohio-organizing-meeting-8/
CATEGORIES:death penalty
ATTACH;FMTTYPE=image/png:https://ignitepeace.org/wp-content/uploads/2021/06/image-2-e1623350884308.png
END:VEVENT
END:VCALENDAR